BEGIN:VCALENDAR
VERSION:2.0
PRODID:-//GoiásFomento - Agência de Fomento - ECPv6.15.20//NONSGML v1.0//EN
CALSCALE:GREGORIAN
METHOD:PUBLISH
X-ORIGINAL-URL:https://www.goiasfomento.com
X-WR-CALDESC:Eventos para GoiásFomento - Agência de Fomento
REFRESH-INTERVAL;VALUE=DURATION:PT1H
X-Robots-Tag:noindex
X-PUBLISHED-TTL:PT1H
BEGIN:VTIMEZONE
TZID:America/Sao_Paulo
BEGIN:STANDARD
TZOFFSETFROM:-0300
TZOFFSETTO:-0300
TZNAME:-03
DTSTART:20240101T000000
END:STANDARD
END:VTIMEZONE
BEGIN:VEVENT
DTSTART;TZID=America/Sao_Paulo:20250416T080000
DTEND;TZID=America/Sao_Paulo:20250421T170000
DTSTAMP:20260425T111651
CREATED:20250415T182120Z
LAST-MODIFIED:20250415T182120Z
UID:42192-1744790400-1745254800@www.goiasfomento.com
SUMMARY:Cargo Vago desde 19/03/2025.
DESCRIPTION:
URL:https://www.goiasfomento.com/agenda/cargo-vago-desde-19-03-2025-3/
CATEGORIES:Diretoria Administrativa e Financeira
END:VEVENT
BEGIN:VEVENT
DTSTART;VALUE=DATE:20250417
DTEND;VALUE=DATE:20250418
DTSTAMP:20260425T111651
CREATED:20250402T171716Z
LAST-MODIFIED:20250402T171716Z
UID:41680-1744848000-1744934399@www.goiasfomento.com
SUMMARY:Rufino Veríssimo: Ponto Facultativo\, Conforme o Decreto Estadual nº 10.659\, de 17 de março de 2025.
DESCRIPTION:
URL:https://www.goiasfomento.com/agenda/rufino-verissimo-ponto-facultativo-conforme-o-decreto-estadual-no-10-659-de-17-de-marco-de-2025/
LOCATION:Gabinete da Diretoria de Operações da GoiásFomento – Agência de Fomento de Goiás.
CATEGORIES:Diretoria de Operações
END:VEVENT
BEGIN:VEVENT
DTSTART;VALUE=DATE:20250417
DTEND;VALUE=DATE:20250418
DTSTAMP:20260425T111651
CREATED:20250402T172114Z
LAST-MODIFIED:20250402T172114Z
UID:41682-1744848000-1744934399@www.goiasfomento.com
SUMMARY:Rufino Veríssimo – Diretor Presidente (Em substituição): Ponto Facultativo\, Conforme o Decreto Estadual nº 10.659\, de 17 de março de 2025.
DESCRIPTION:
URL:https://www.goiasfomento.com/agenda/rufino-verissimo-diretor-presidente-em-substituicao-ponto-facultativo-conforme-o-decreto-estadual-no-10-659-de-17-de-marco-de-2025/
LOCATION:Gabinete da Diretoria de Operações da GoiásFomento – Agência de Fomento de Goiás.
CATEGORIES:Presidência
END:VEVENT
BEGIN:VEVENT
DTSTART;VALUE=DATE:20250417
DTEND;VALUE=DATE:20250418
DTSTAMP:20260425T111651
CREATED:20250402T172411Z
LAST-MODIFIED:20250402T172411Z
UID:41684-1744848000-1744934399@www.goiasfomento.com
SUMMARY:Deivison Costa:  Ponto Facultativo\, Conforme o Decreto Estadual nº 10.659\, de 17 de março de 2025.
DESCRIPTION:
URL:https://www.goiasfomento.com/agenda/deivison-costa-ponto-facultativo-conforme-o-decreto-estadual-no-10-659-de-17-de-marco-de-2025/
LOCATION:Chefia de Gabinete – Agência de Fomento de Goiás
CATEGORIES:Chefia de Gabinete
END:VEVENT
END:VCALENDAR