BEGIN:VCALENDAR
VERSION:2.0
PRODID:-//GoiásFomento - Agência de Fomento - ECPv6.15.20//NONSGML v1.0//EN
CALSCALE:GREGORIAN
METHOD:PUBLISH
X-WR-CALNAME:GoiásFomento - Agência de Fomento
X-ORIGINAL-URL:https://www.goiasfomento.com
X-WR-CALDESC:Eventos para GoiásFomento - Agência de Fomento
REFRESH-INTERVAL;VALUE=DURATION:PT1H
X-Robots-Tag:noindex
X-PUBLISHED-TTL:PT1H
BEGIN:VTIMEZONE
TZID:America/Sao_Paulo
BEGIN:STANDARD
TZOFFSETFROM:-0300
TZOFFSETTO:-0300
TZNAME:-03
DTSTART:20240101T000000
END:STANDARD
END:VTIMEZONE
BEGIN:VEVENT
DTSTART;VALUE=DATE:20250319
DTEND;VALUE=DATE:20250401
DTSTAMP:20260425T093615
CREATED:20250409T141630Z
LAST-MODIFIED:20250409T141630Z
UID:41935-1742342400-1743465599@www.goiasfomento.com
SUMMARY:Cargo Vago desde 19/03/2025.
DESCRIPTION:
URL:https://www.goiasfomento.com/agenda/cargo-vago-desde-19-03-2025/
CATEGORIES:Diretoria Administrativa e Financeira
END:VEVENT
BEGIN:VEVENT
DTSTART;TZID=America/Sao_Paulo:20250320T070000
DTEND;TZID=America/Sao_Paulo:20250320T090000
DTSTAMP:20260425T093615
CREATED:20250320T112445Z
LAST-MODIFIED:20250408T122519Z
UID:41086-1742454000-1742461200@www.goiasfomento.com
SUMMARY:Rufino Veríssimo – Diretor Presidente (Em substituição): Despachos Internos.
DESCRIPTION:
URL:https://www.goiasfomento.com/agenda/rufino-verissimo-diretor-presidente-interino-despachos-internos-6/
LOCATION:Gabinete da Diretoria de Operações da GoiásFomento – Agência de Fomento de Goiás.
CATEGORIES:Presidência
END:VEVENT
BEGIN:VEVENT
DTSTART;TZID=America/Sao_Paulo:20250320T070000
DTEND;TZID=America/Sao_Paulo:20250320T090000
DTSTAMP:20260425T093615
CREATED:20250320T112538Z
LAST-MODIFIED:20250408T122946Z
UID:41088-1742454000-1742461200@www.goiasfomento.com
SUMMARY:Rufino Veríssimo: Despachos Internos.
DESCRIPTION:
URL:https://www.goiasfomento.com/agenda/rufino-verissimo-despachos-internos-215/
LOCATION:Gabinete da Diretoria de Operações da GoiásFomento – Agência de Fomento de Goiás.
CATEGORIES:Diretoria de Operações
END:VEVENT
BEGIN:VEVENT
DTSTART;TZID=America/Sao_Paulo:20250320T080000
DTEND;TZID=America/Sao_Paulo:20250320T120000
DTSTAMP:20260425T093615
CREATED:20250320T111925Z
LAST-MODIFIED:20250320T111925Z
UID:41081-1742457600-1742472000@www.goiasfomento.com
SUMMARY:Deivison Costa: GOIÁS SOCIAL – MULHER.
DESCRIPTION:
URL:https://www.goiasfomento.com/agenda/deivison-costa-goias-social-mulher-2/
LOCATION:Aparecida de Goiânia Goiás
CATEGORIES:Chefia de Gabinete
END:VEVENT
BEGIN:VEVENT
DTSTART;TZID=America/Sao_Paulo:20250320T090000
DTEND;TZID=America/Sao_Paulo:20250320T093000
DTSTAMP:20260425T093615
CREATED:20250320T135630Z
LAST-MODIFIED:20250320T183744Z
UID:41101-1742461200-1742463000@www.goiasfomento.com
SUMMARY:Rufino Veríssimo – Diretor Presidente (Em substituição): Reunião com Porthos R. de Albuquerque Motta - Assessor de Gerenciamento de Riscos e Escritório de Projetos.
DESCRIPTION:
URL:https://www.goiasfomento.com/agenda/rufino-verissimo-diretor-presidente-interino-reuniao-com-porthos-r-de-albuquerque-motta-assessor-de-gerenciamento-de-riscos-e-escritorio-de-projetos/
LOCATION:Gabinete da Diretoria de Operações da GoiásFomento – Agência de Fomento de Goiás.
CATEGORIES:Presidência
END:VEVENT
BEGIN:VEVENT
DTSTART;TZID=America/Sao_Paulo:20250320T090000
DTEND;TZID=America/Sao_Paulo:20250320T093000
DTSTAMP:20260425T093615
CREATED:20250320T135724Z
LAST-MODIFIED:20250320T135724Z
UID:41103-1742461200-1742463000@www.goiasfomento.com
SUMMARY:Rufino Veríssimo: Reunião com Porthos R. de Albuquerque Motta - Assessor de Gerenciamento de Riscos e Escritório de Projetos.
DESCRIPTION:
URL:https://www.goiasfomento.com/agenda/rufino-verissimo-reuniao-com-porthos-r-de-albuquerque-motta-assessor-de-gerenciamento-de-riscos-e-escritorio-de-projetos/
LOCATION:Gabinete da Diretoria de Operações da GoiásFomento – Agência de Fomento de Goiás.
CATEGORIES:Diretoria de Operações
END:VEVENT
BEGIN:VEVENT
DTSTART;TZID=America/Sao_Paulo:20250320T093000
DTEND;TZID=America/Sao_Paulo:20250320T100000
DTSTAMP:20260425T093615
CREATED:20250320T140237Z
LAST-MODIFIED:20250320T183550Z
UID:41106-1742463000-1742464800@www.goiasfomento.com
SUMMARY:Rufino Veríssimo – Diretor Presidente (Em substituição):  Reunião com Paulo Cesar Paiva - Assessor de Estratégia e Planejamento.
DESCRIPTION:
URL:https://www.goiasfomento.com/agenda/rufino-verissimo-diretor-presidente-interino-reuniao-com-paulo-cesar-paiva-assessor-de-estrategia-e-planejamento-2/
LOCATION:Gabinete da Diretoria de Operações da GoiásFomento – Agência de Fomento de Goiás.
CATEGORIES:Presidência
END:VEVENT
BEGIN:VEVENT
DTSTART;TZID=America/Sao_Paulo:20250320T093000
DTEND;TZID=America/Sao_Paulo:20250320T100000
DTSTAMP:20260425T093615
CREATED:20250320T140434Z
LAST-MODIFIED:20250320T140434Z
UID:41110-1742463000-1742464800@www.goiasfomento.com
SUMMARY:Rufino Veríssimo:  Reunião com Paulo Cesar Paiva - Assessor de Estratégia e Planejamento.
DESCRIPTION:
URL:https://www.goiasfomento.com/agenda/rufino-verissimo-reuniao-com-paulo-cesar-paiva-assessor-de-estrategia-e-planejamento-9/
LOCATION:Gabinete da Diretoria de Operações da GoiásFomento – Agência de Fomento de Goiás.
CATEGORIES:Diretoria de Operações
END:VEVENT
BEGIN:VEVENT
DTSTART;TZID=America/Sao_Paulo:20250320T100000
DTEND;TZID=America/Sao_Paulo:20250320T103000
DTSTAMP:20260425T093615
CREATED:20250320T140624Z
LAST-MODIFIED:20250320T183510Z
UID:41112-1742464800-1742466600@www.goiasfomento.com
SUMMARY:Rufino Veríssimo – Diretor Presidente (Em substituição):  Reunião com Bruno Alvarenga Campos Martins - Gerente de Atendimento.
DESCRIPTION:
URL:https://www.goiasfomento.com/agenda/rufino-verissimo-diretor-presidente-interino-reuniao-com-bruno-alvarenga-campos-martins-gerente-de-atendimento/
LOCATION:Gabinete da Diretoria de Operações da GoiásFomento – Agência de Fomento de Goiás.
CATEGORIES:Presidência
END:VEVENT
BEGIN:VEVENT
DTSTART;TZID=America/Sao_Paulo:20250320T100000
DTEND;TZID=America/Sao_Paulo:20250320T103000
DTSTAMP:20260425T093615
CREATED:20250320T140707Z
LAST-MODIFIED:20250320T140707Z
UID:41114-1742464800-1742466600@www.goiasfomento.com
SUMMARY:Rufino Veríssimo:  Reunião com Bruno Alvarenga Campos Martins - Gerente de Atendimento.
DESCRIPTION:
URL:https://www.goiasfomento.com/agenda/rufino-verissimo-reuniao-com-bruno-alvarenga-campos-martins-gerente-de-atendimento-6/
LOCATION:Gabinete da Diretoria de Operações da GoiásFomento – Agência de Fomento de Goiás.
CATEGORIES:Diretoria de Operações
END:VEVENT
BEGIN:VEVENT
DTSTART;TZID=America/Sao_Paulo:20250320T103000
DTEND;TZID=America/Sao_Paulo:20250320T110000
DTSTAMP:20260425T093615
CREATED:20250320T141032Z
LAST-MODIFIED:20250320T183448Z
UID:41116-1742466600-1742468400@www.goiasfomento.com
SUMMARY:Rufino Veríssimo – Diretor Presidente (Em substituição):  Reunião com Darmélia Barbosa - Gerente de Comunicação.
DESCRIPTION:
URL:https://www.goiasfomento.com/agenda/rufino-verissimo-diretor-presidente-interino-reuniao-com-darmelia-barbosa-gerente-de-comunicacao/
LOCATION:Gabinete da Diretoria de Operações da GoiásFomento – Agência de Fomento de Goiás.
CATEGORIES:Presidência
END:VEVENT
BEGIN:VEVENT
DTSTART;TZID=America/Sao_Paulo:20250320T103000
DTEND;TZID=America/Sao_Paulo:20250320T110000
DTSTAMP:20260425T093615
CREATED:20250320T141215Z
LAST-MODIFIED:20250320T141215Z
UID:41118-1742466600-1742468400@www.goiasfomento.com
SUMMARY:Rufino Veríssimo:  Reunião com Darmélia Barbosa - Gerente de Comunicação.
DESCRIPTION:
URL:https://www.goiasfomento.com/agenda/rufino-verissimo-reuniao-com-darmelia-barbosa-gerente-de-comunicacao-3/
LOCATION:Gabinete da Diretoria de Operações da GoiásFomento – Agência de Fomento de Goiás.
CATEGORIES:Diretoria de Operações
END:VEVENT
BEGIN:VEVENT
DTSTART;TZID=America/Sao_Paulo:20250320T110000
DTEND;TZID=America/Sao_Paulo:20250320T113000
DTSTAMP:20260425T093615
CREATED:20250320T141404Z
LAST-MODIFIED:20250320T183429Z
UID:41120-1742468400-1742470200@www.goiasfomento.com
SUMMARY:Rufino Veríssimo – Diretor Presidente (Em substituição):  Reunião com Ariana da Costa Pires Barbosa - Secretaria-Geral e José Marco Ferreira de Barri - Gerente Financeiro.
DESCRIPTION:
URL:https://www.goiasfomento.com/agenda/rufino-verissimo-diretor-presidente-interino-reuniao-com-ariana-da-costa-pires-barbosa-secretaria-geral-e-jose-marco-ferreira-de-barri-gerente-financeiro/
LOCATION:Gabinete da Diretoria de Operações da GoiásFomento – Agência de Fomento de Goiás.
CATEGORIES:Presidência
END:VEVENT
BEGIN:VEVENT
DTSTART;TZID=America/Sao_Paulo:20250320T110000
DTEND;TZID=America/Sao_Paulo:20250320T113000
DTSTAMP:20260425T093615
CREATED:20250320T141521Z
LAST-MODIFIED:20250320T141521Z
UID:41122-1742468400-1742470200@www.goiasfomento.com
SUMMARY:Rufino Veríssimo: Reunião com Ariana da Costa Pires Barbosa - Secretaria-Geral e José Marco Ferreira de Barri - Gerente Financeiro.
DESCRIPTION:
URL:https://www.goiasfomento.com/agenda/rufino-verissimo-reuniao-com-ariana-da-costa-pires-barbosa-secretaria-geral-e-jose-marco-ferreira-de-barri-gerente-financeiro/
LOCATION:Gabinete da Diretoria de Operações da GoiásFomento – Agência de Fomento de Goiás.
CATEGORIES:Diretoria de Operações
END:VEVENT
BEGIN:VEVENT
DTSTART;TZID=America/Sao_Paulo:20250320T113000
DTEND;TZID=America/Sao_Paulo:20250320T120000
DTSTAMP:20260425T093615
CREATED:20250320T142118Z
LAST-MODIFIED:20250320T183413Z
UID:41125-1742470200-1742472000@www.goiasfomento.com
SUMMARY:Rufino Veríssimo – Diretor Presidente (Em substituição): Despachos Internos.
DESCRIPTION:
URL:https://www.goiasfomento.com/agenda/rufino-verissimo-diretor-presidente-interino-despachos-internos-7/
LOCATION:Gabinete da Diretoria de Operações da GoiásFomento – Agência de Fomento de Goiás.
CATEGORIES:Presidência
END:VEVENT
BEGIN:VEVENT
DTSTART;TZID=America/Sao_Paulo:20250320T113000
DTEND;TZID=America/Sao_Paulo:20250320T120000
DTSTAMP:20260425T093615
CREATED:20250320T142212Z
LAST-MODIFIED:20250320T142212Z
UID:41127-1742470200-1742472000@www.goiasfomento.com
SUMMARY:Rufino Veríssimo: Despachos Internos.
DESCRIPTION:
URL:https://www.goiasfomento.com/agenda/rufino-verissimo-despachos-internos-216/
LOCATION:Gabinete da Diretoria de Operações da GoiásFomento – Agência de Fomento de Goiás.
CATEGORIES:Diretoria de Operações
END:VEVENT
BEGIN:VEVENT
DTSTART;TZID=America/Sao_Paulo:20250320T140000
DTEND;TZID=America/Sao_Paulo:20250320T143000
DTSTAMP:20260425T093615
CREATED:20250320T193558Z
LAST-MODIFIED:20250320T193558Z
UID:41165-1742479200-1742481000@www.goiasfomento.com
SUMMARY:Rufino Veríssimo – Diretor Presidente (Em substituição): Reunião com Rafael Soffa Rézio - Gerente de Programas e Políticas Sociais.
DESCRIPTION:
URL:https://www.goiasfomento.com/agenda/rufino-verissimo-diretor-presidente-em-substituicao-reuniao-com-rafael-soffa-rezio-gerente-de-programas-e-politicas-sociais/
LOCATION:Gabinete da Diretoria de Operações da GoiásFomento – Agência de Fomento de Goiás.
CATEGORIES:Presidência
END:VEVENT
BEGIN:VEVENT
DTSTART;TZID=America/Sao_Paulo:20250320T140000
DTEND;TZID=America/Sao_Paulo:20250320T143000
DTSTAMP:20260425T093615
CREATED:20250320T193633Z
LAST-MODIFIED:20250320T193633Z
UID:41167-1742479200-1742481000@www.goiasfomento.com
SUMMARY:Rufino Veríssimo: Reunião com Rafael Soffa Rézio - Gerente de Programas e Políticas Sociais.
DESCRIPTION:
URL:https://www.goiasfomento.com/agenda/rufino-verissimo-reuniao-com-rafael-soffa-rezio-gerente-de-programas-e-politicas-sociais-12/
LOCATION:Gabinete da Diretoria de Operações da GoiásFomento – Agência de Fomento de Goiás.
CATEGORIES:Diretoria de Operações
END:VEVENT
BEGIN:VEVENT
DTSTART;TZID=America/Sao_Paulo:20250320T140000
DTEND;TZID=America/Sao_Paulo:20250320T180000
DTSTAMP:20260425T093615
CREATED:20250320T111954Z
LAST-MODIFIED:20250320T111954Z
UID:41084-1742479200-1742493600@www.goiasfomento.com
SUMMARY:Deivison Costa: Despachos Internos.
DESCRIPTION:
URL:https://www.goiasfomento.com/agenda/deivison-costa-despachos-internos-16/
LOCATION:Chefia de Gabinete – Agência de Fomento de Goiás
CATEGORIES:Chefia de Gabinete
END:VEVENT
BEGIN:VEVENT
DTSTART;TZID=America/Sao_Paulo:20250320T143000
DTEND;TZID=America/Sao_Paulo:20250320T150000
DTSTAMP:20260425T093615
CREATED:20250320T193743Z
LAST-MODIFIED:20250320T193743Z
UID:41169-1742481000-1742482800@www.goiasfomento.com
SUMMARY:Rufino Veríssimo – Diretor Presidente (Em substituição): Reunião com Álvaro Augusto C. F dos Reis - Assessor de Controles Internos e Compliance.
DESCRIPTION:
URL:https://www.goiasfomento.com/agenda/rufino-verissimo-diretor-presidente-em-substituicao-reuniao-com-alvaro-augusto-c-f-dos-reis-assessor-de-controles-internos-e-compliance/
LOCATION:Gabinete da Diretoria de Operações da GoiásFomento – Agência de Fomento de Goiás.
CATEGORIES:Presidência
END:VEVENT
BEGIN:VEVENT
DTSTART;TZID=America/Sao_Paulo:20250320T143000
DTEND;TZID=America/Sao_Paulo:20250320T150000
DTSTAMP:20260425T093615
CREATED:20250320T193818Z
LAST-MODIFIED:20250320T193818Z
UID:41171-1742481000-1742482800@www.goiasfomento.com
SUMMARY:Rufino Veríssimo: Reunião com Álvaro Augusto C. F dos Reis - Assessor de Controles Internos e Compliance.
DESCRIPTION:
URL:https://www.goiasfomento.com/agenda/rufino-verissimo-reuniao-com-alvaro-augusto-c-f-dos-reis-assessor-de-controles-internos-e-compliance/
LOCATION:Gabinete da Diretoria de Operações da GoiásFomento – Agência de Fomento de Goiás.
CATEGORIES:Diretoria de Operações
END:VEVENT
BEGIN:VEVENT
DTSTART;TZID=America/Sao_Paulo:20250320T150000
DTEND;TZID=America/Sao_Paulo:20250320T153000
DTSTAMP:20260425T093615
CREATED:20250320T193907Z
LAST-MODIFIED:20250320T193907Z
UID:41173-1742482800-1742484600@www.goiasfomento.com
SUMMARY:Rufino Veríssimo – Diretor Presidente (Em substituição): Reunião com Vânia Aparecida da Silveira - Gerente de Análise de Crédito.
DESCRIPTION:
URL:https://www.goiasfomento.com/agenda/rufino-verissimo-diretor-presidente-em-substituicao-reuniao-com-vania-aparecida-da-silveira-gerente-de-analise-de-credito/
END:VEVENT
BEGIN:VEVENT
DTSTART;TZID=America/Sao_Paulo:20250320T150000
DTEND;TZID=America/Sao_Paulo:20250320T153000
DTSTAMP:20260425T093615
CREATED:20250320T193939Z
LAST-MODIFIED:20250320T193939Z
UID:41175-1742482800-1742484600@www.goiasfomento.com
SUMMARY:Rufino Veríssimo: Reunião com Vânia Aparecida da Silveira - Gerente de Análise de Crédito.
DESCRIPTION:
URL:https://www.goiasfomento.com/agenda/rufino-verissimo-reuniao-com-vania-aparecida-da-silveira-gerente-de-analise-de-credito-3/
LOCATION:Gabinete da Diretoria de Operações da GoiásFomento – Agência de Fomento de Goiás.
CATEGORIES:Diretoria de Operações
END:VEVENT
BEGIN:VEVENT
DTSTART;TZID=America/Sao_Paulo:20250320T153000
DTEND;TZID=America/Sao_Paulo:20250320T160000
DTSTAMP:20260425T093615
CREATED:20250320T194035Z
LAST-MODIFIED:20250320T194035Z
UID:41177-1742484600-1742486400@www.goiasfomento.com
SUMMARY:Rufino Veríssimo – Diretor Presidente (Em substituição): Reunião com Guido Juliano Martins de Araújo - Gerente de Agronegócio.
DESCRIPTION:
URL:https://www.goiasfomento.com/agenda/rufino-verissimo-diretor-presidente-em-substituicao-reuniao-com-guido-juliano-martins-de-araujo-gerente-de-agronegocio/
LOCATION:Gabinete da Diretoria de Operações da GoiásFomento – Agência de Fomento de Goiás.
CATEGORIES:Presidência
END:VEVENT
BEGIN:VEVENT
DTSTART;TZID=America/Sao_Paulo:20250320T153000
DTEND;TZID=America/Sao_Paulo:20250320T160000
DTSTAMP:20260425T093615
CREATED:20250320T194106Z
LAST-MODIFIED:20250320T194106Z
UID:41179-1742484600-1742486400@www.goiasfomento.com
SUMMARY:Rufino Veríssimo: Reunião com Guido Juliano Martins de Araújo - Gerente de Agronegócio.
DESCRIPTION:
URL:https://www.goiasfomento.com/agenda/rufino-verissimo-reuniao-com-guido-juliano-martins-de-araujo-gerente-de-agronegocio-6/
LOCATION:Gabinete da Diretoria de Operações da GoiásFomento – Agência de Fomento de Goiás.
CATEGORIES:Diretoria de Operações
END:VEVENT
BEGIN:VEVENT
DTSTART;TZID=America/Sao_Paulo:20250320T160000
DTEND;TZID=America/Sao_Paulo:20250320T180000
DTSTAMP:20260425T093615
CREATED:20250320T194231Z
LAST-MODIFIED:20250320T194231Z
UID:41181-1742486400-1742493600@www.goiasfomento.com
SUMMARY:Rufino Veríssimo – Diretor Presidente (Em substituição): Despachos Internos.
DESCRIPTION:
URL:https://www.goiasfomento.com/agenda/rufino-verissimo-diretor-presidente-em-substituicao-despachos-internos/
LOCATION:Gabinete da Diretoria de Operações da GoiásFomento – Agência de Fomento de Goiás.
CATEGORIES:Presidência
END:VEVENT
BEGIN:VEVENT
DTSTART;TZID=America/Sao_Paulo:20250320T160000
DTEND;TZID=America/Sao_Paulo:20250320T180000
DTSTAMP:20260425T093615
CREATED:20250320T194302Z
LAST-MODIFIED:20250320T194302Z
UID:41183-1742486400-1742493600@www.goiasfomento.com
SUMMARY:Rufino Veríssimo: Despachos Internos.
DESCRIPTION:
URL:https://www.goiasfomento.com/agenda/rufino-verissimo-despachos-internos-217/
LOCATION:Gabinete da Diretoria de Operações da GoiásFomento – Agência de Fomento de Goiás.
CATEGORIES:Diretoria de Operações
END:VEVENT
END:VCALENDAR