BEGIN:VCALENDAR
VERSION:2.0
PRODID:-//GoiásFomento - Agência de Fomento - ECPv6.15.20//NONSGML v1.0//EN
CALSCALE:GREGORIAN
METHOD:PUBLISH
X-ORIGINAL-URL:https://www.goiasfomento.com
X-WR-CALDESC:Eventos para GoiásFomento - Agência de Fomento
REFRESH-INTERVAL;VALUE=DURATION:PT1H
X-Robots-Tag:noindex
X-PUBLISHED-TTL:PT1H
BEGIN:VTIMEZONE
TZID:America/Sao_Paulo
BEGIN:STANDARD
TZOFFSETFROM:-0300
TZOFFSETTO:-0300
TZNAME:-03
DTSTART:20240101T000000
END:STANDARD
END:VTIMEZONE
BEGIN:VEVENT
DTSTART;TZID=America/Sao_Paulo:20250318T080000
DTEND;TZID=America/Sao_Paulo:20250318T090000
DTSTAMP:20260425T093814
CREATED:20250318T195521Z
LAST-MODIFIED:20250318T200212Z
UID:40982-1742284800-1742288400@www.goiasfomento.com
SUMMARY:Rufino Veríssimo: Despachos Internos.
DESCRIPTION:
URL:https://www.goiasfomento.com/agenda/rufino-verissimo-despachos-internos-207/
LOCATION:Gabinete da Diretoria de Operações da GoiásFomento – Agência de Fomento de Goiás.
CATEGORIES:Diretoria de Operações
END:VEVENT
BEGIN:VEVENT
DTSTART;TZID=America/Sao_Paulo:20250318T080000
DTEND;TZID=America/Sao_Paulo:20250318T110000
DTSTAMP:20260425T093814
CREATED:20250318T201749Z
LAST-MODIFIED:20250318T201749Z
UID:40992-1742284800-1742295600@www.goiasfomento.com
SUMMARY:Deivison Costa: Despachos Internos.
DESCRIPTION:
URL:https://www.goiasfomento.com/agenda/deivison-costa-despachos-internos-11/
LOCATION:Chefia de Gabinete – Agência de Fomento de Goiás
CATEGORIES:Chefia de Gabinete
END:VEVENT
BEGIN:VEVENT
DTSTART;TZID=America/Sao_Paulo:20250318T080000
DTEND;TZID=America/Sao_Paulo:20250318T120000
DTSTAMP:20260425T093814
CREATED:20250318T190829Z
LAST-MODIFIED:20250318T190829Z
UID:40974-1742284800-1742299200@www.goiasfomento.com
SUMMARY:Lucas Fernandes – Diretor Presidente (Interino): Despachos Internos.
DESCRIPTION:
URL:https://www.goiasfomento.com/agenda/lucas-fernandes-diretor-presidente-interino-despachos-internos-317/
LOCATION:Gabinete da Presidência.
CATEGORIES:Presidência
END:VEVENT
BEGIN:VEVENT
DTSTART;TZID=America/Sao_Paulo:20250318T080000
DTEND;TZID=America/Sao_Paulo:20250318T120000
DTSTAMP:20260425T093814
CREATED:20250318T191020Z
LAST-MODIFIED:20250318T191020Z
UID:40978-1742284800-1742299200@www.goiasfomento.com
SUMMARY:Lucas Fernandes: Despachos Internos.
DESCRIPTION:
URL:https://www.goiasfomento.com/agenda/lucas-fernandes-despachos-internos-761/
LOCATION:Gabinete da Presidência.
CATEGORIES:Diretoria Administrativa e Financeira
END:VEVENT
BEGIN:VEVENT
DTSTART;TZID=America/Sao_Paulo:20250318T090000
DTEND;TZID=America/Sao_Paulo:20250318T100000
DTSTAMP:20260425T093814
CREATED:20250318T195915Z
LAST-MODIFIED:20250318T200306Z
UID:40984-1742288400-1742292000@www.goiasfomento.com
SUMMARY:Rufino Veríssimo: Reunião com os Gerentes da Diretoria de Operações.
DESCRIPTION:
URL:https://www.goiasfomento.com/agenda/rufino-verissimo-reuniao-com-os-gerentes-da-diretoria-de-operacoes-9/
LOCATION:Gabinete da Diretoria de Operações da GoiásFomento – Agência de Fomento de Goiás.
CATEGORIES:Diretoria de Operações
END:VEVENT
BEGIN:VEVENT
DTSTART;TZID=America/Sao_Paulo:20250318T100000
DTEND;TZID=America/Sao_Paulo:20250318T103000
DTSTAMP:20260425T093814
CREATED:20250318T200057Z
LAST-MODIFIED:20250318T200057Z
UID:40986-1742292000-1742293800@www.goiasfomento.com
SUMMARY:Rufino Veríssimo: Reunião com os Gerentes da GoiásFomento.
DESCRIPTION:
URL:https://www.goiasfomento.com/agenda/rufino-verissimo-reuniao-com-os-gerentes-da-goiasfomento/
LOCATION:Auditorio da Goiásfomento
CATEGORIES:Diretoria de Operações
END:VEVENT
BEGIN:VEVENT
DTSTART;TZID=America/Sao_Paulo:20250318T103000
DTEND;TZID=America/Sao_Paulo:20250318T120000
DTSTAMP:20260425T093814
CREATED:20250318T200732Z
LAST-MODIFIED:20250318T200732Z
UID:40988-1742293800-1742299200@www.goiasfomento.com
SUMMARY:Rufino Veríssimo: Despachos Internos.
DESCRIPTION:
URL:https://www.goiasfomento.com/agenda/rufino-verissimo-despachos-internos-208/
LOCATION:Gabinete da Diretoria de Operações da GoiásFomento – Agência de Fomento de Goiás.
CATEGORIES:Diretoria de Operações
END:VEVENT
BEGIN:VEVENT
DTSTART;TZID=America/Sao_Paulo:20250318T110000
DTEND;TZID=America/Sao_Paulo:20250318T120000
DTSTAMP:20260425T093814
CREATED:20250318T202239Z
LAST-MODIFIED:20250318T202239Z
UID:40994-1742295600-1742299200@www.goiasfomento.com
SUMMARY:Deivison Costa: Reunião com o Deputado Issy Quinan e Vice-Prefeito Douglas de Bonfinópolis GO.
DESCRIPTION:
URL:https://www.goiasfomento.com/agenda/deivison-costa-reuniao-com-o-deputado-issy-quinan-e-vice-prefeito-douglas-de-bonfinopolis-go/
LOCATION:Gabinete da Diretoria de Operações da GoiásFomento – Agência de Fomento de Goiás.
CATEGORIES:Chefia de Gabinete
END:VEVENT
BEGIN:VEVENT
DTSTART;TZID=America/Sao_Paulo:20250318T140000
DTEND;TZID=America/Sao_Paulo:20250318T180000
DTSTAMP:20260425T093814
CREATED:20250318T190900Z
LAST-MODIFIED:20250318T190900Z
UID:40976-1742306400-1742320800@www.goiasfomento.com
SUMMARY:Lucas Fernandes – Diretor Presidente (Interino): Despachos Internos.
DESCRIPTION:
URL:https://www.goiasfomento.com/agenda/lucas-fernandes-diretor-presidente-interino-despachos-internos-318/
LOCATION:Gabinete da Presidência.
CATEGORIES:Presidência
END:VEVENT
BEGIN:VEVENT
DTSTART;TZID=America/Sao_Paulo:20250318T140000
DTEND;TZID=America/Sao_Paulo:20250318T180000
DTSTAMP:20260425T093814
CREATED:20250318T191100Z
LAST-MODIFIED:20250318T191100Z
UID:40980-1742306400-1742320800@www.goiasfomento.com
SUMMARY:Lucas Fernandes: Despachos Internos.
DESCRIPTION:
URL:https://www.goiasfomento.com/agenda/lucas-fernandes-despachos-internos-762/
LOCATION:Gabinete da Presidência.
CATEGORIES:Diretoria Administrativa e Financeira
END:VEVENT
BEGIN:VEVENT
DTSTART;TZID=America/Sao_Paulo:20250318T140000
DTEND;TZID=America/Sao_Paulo:20250318T180000
DTSTAMP:20260425T093814
CREATED:20250318T201123Z
LAST-MODIFIED:20250318T201123Z
UID:40990-1742306400-1742320800@www.goiasfomento.com
SUMMARY:Rufino Veríssimo: Despachos Internos.
DESCRIPTION:
URL:https://www.goiasfomento.com/agenda/rufino-verissimo-despachos-internos-209/
LOCATION:Gabinete da Diretoria de Operações da GoiásFomento – Agência de Fomento de Goiás.
CATEGORIES:Diretoria de Operações
END:VEVENT
BEGIN:VEVENT
DTSTART;TZID=America/Sao_Paulo:20250318T140000
DTEND;TZID=America/Sao_Paulo:20250318T180000
DTSTAMP:20260425T093814
CREATED:20250318T202422Z
LAST-MODIFIED:20250318T202422Z
UID:40996-1742306400-1742320800@www.goiasfomento.com
SUMMARY:Deivison Costa: Despachos Internos.
DESCRIPTION:
URL:https://www.goiasfomento.com/agenda/deivison-costa-despachos-internos-12/
LOCATION:Chefia de Gabinete – Agência de Fomento de Goiás
CATEGORIES:Chefia de Gabinete
END:VEVENT
END:VCALENDAR