BEGIN:VCALENDAR
VERSION:2.0
PRODID:-//GoiásFomento - Agência de Fomento - ECPv6.15.20//NONSGML v1.0//EN
CALSCALE:GREGORIAN
METHOD:PUBLISH
X-ORIGINAL-URL:https://www.goiasfomento.com
X-WR-CALDESC:Eventos para GoiásFomento - Agência de Fomento
REFRESH-INTERVAL;VALUE=DURATION:PT1H
X-Robots-Tag:noindex
X-PUBLISHED-TTL:PT1H
BEGIN:VTIMEZONE
TZID:America/Sao_Paulo
BEGIN:STANDARD
TZOFFSETFROM:-0300
TZOFFSETTO:-0300
TZNAME:-03
DTSTART:20240101T000000
END:STANDARD
END:VTIMEZONE
BEGIN:VEVENT
DTSTART;TZID=America/Sao_Paulo:20250217T053000
DTEND;TZID=America/Sao_Paulo:20250217T150000
DTSTAMP:20260425T081345
CREATED:20250217T192937Z
LAST-MODIFIED:20250217T192937Z
UID:40213-1739770200-1739804400@www.goiasfomento.com
SUMMARY:Rufino Veríssimo: Abertura Oficial da Semana do Crédito GoiásFomento em Goianésia-Goiás.
DESCRIPTION:
URL:https://www.goiasfomento.com/agenda/rufino-verissimo-abertura-oficial-da-semana-do-credito-goiasfomento-em-goianesia-goias/
LOCATION:Goianésia – Goiás
CATEGORIES:Diretoria de Operações
END:VEVENT
BEGIN:VEVENT
DTSTART;TZID=America/Sao_Paulo:20250217T080000
DTEND;TZID=America/Sao_Paulo:20250217T120000
DTSTAMP:20260425T081345
CREATED:20250217T192506Z
LAST-MODIFIED:20250217T192506Z
UID:40195-1739779200-1739793600@www.goiasfomento.com
SUMMARY:Lucas Fernandes – Diretor Presidente (Interino): Despachos Internos.
DESCRIPTION:
URL:https://www.goiasfomento.com/agenda/lucas-fernandes-diretor-presidente-interino-despachos-internos-273/
LOCATION:Gabinete da Presidência.
CATEGORIES:Presidência
END:VEVENT
BEGIN:VEVENT
DTSTART;TZID=America/Sao_Paulo:20250217T080000
DTEND;TZID=America/Sao_Paulo:20250217T120000
DTSTAMP:20260425T081345
CREATED:20250217T192655Z
LAST-MODIFIED:20250217T192655Z
UID:40206-1739779200-1739793600@www.goiasfomento.com
SUMMARY:Fernando Dias: Despachos Internos.
DESCRIPTION:
URL:https://www.goiasfomento.com/agenda/fernando-dias-despachos-internos-66/
LOCATION:Chefia de Gabinete – Agência de Fomento de Goiás
CATEGORIES:Chefia de Gabinete
END:VEVENT
BEGIN:VEVENT
DTSTART;TZID=America/Sao_Paulo:20250217T080000
DTEND;TZID=America/Sao_Paulo:20250217T120000
DTSTAMP:20260425T081345
CREATED:20250217T192732Z
LAST-MODIFIED:20250217T192804Z
UID:40204-1739779200-1739793600@www.goiasfomento.com
SUMMARY:Lucas Fernandes - Despachos Internos.
DESCRIPTION:
URL:https://www.goiasfomento.com/agenda/lucas-fernandes-despachos-internos-719/
LOCATION:Gabinete da Presidência.
CATEGORIES:Diretoria Administrativa e Financeira
END:VEVENT
BEGIN:VEVENT
DTSTART;TZID=America/Sao_Paulo:20250217T140000
DTEND;TZID=America/Sao_Paulo:20250217T160000
DTSTAMP:20260425T081345
CREATED:20250217T192614Z
LAST-MODIFIED:20250217T192614Z
UID:40200-1739800800-1739808000@www.goiasfomento.com
SUMMARY:Fernando Dias: Despachos Internos.
DESCRIPTION:
URL:https://www.goiasfomento.com/agenda/fernando-dias-despachos-internos-64/
LOCATION:Chefia de Gabinete – Agência de Fomento de Goiás
CATEGORIES:Chefia de Gabinete
END:VEVENT
BEGIN:VEVENT
DTSTART;TZID=America/Sao_Paulo:20250217T140000
DTEND;TZID=America/Sao_Paulo:20250217T180000
DTSTAMP:20260425T081345
CREATED:20250217T192554Z
LAST-MODIFIED:20250217T192622Z
UID:40198-1739800800-1739815200@www.goiasfomento.com
SUMMARY:Lucas Fernandes – Diretor Presidente (Interino): Despachos Internos.
DESCRIPTION:
URL:https://www.goiasfomento.com/agenda/lucas-fernandes-diretor-presidente-interino-despachos-internos-274/
LOCATION:Gabinete da Presidência.
CATEGORIES:Presidência
END:VEVENT
BEGIN:VEVENT
DTSTART;TZID=America/Sao_Paulo:20250217T140000
DTEND;TZID=America/Sao_Paulo:20250217T180000
DTSTAMP:20260425T081345
CREATED:20250217T192832Z
LAST-MODIFIED:20250217T192832Z
UID:40210-1739800800-1739815200@www.goiasfomento.com
SUMMARY:Lucas Fernandes - Despachos Internos.
DESCRIPTION:
URL:https://www.goiasfomento.com/agenda/lucas-fernandes-despachos-internos-720/
LOCATION:Gabinete da Presidência.
CATEGORIES:Diretoria Administrativa e Financeira
END:VEVENT
BEGIN:VEVENT
DTSTART;TZID=America/Sao_Paulo:20250217T150000
DTEND;TZID=America/Sao_Paulo:20250217T180000
DTSTAMP:20260425T081345
CREATED:20250217T192835Z
LAST-MODIFIED:20250217T192835Z
UID:40209-1739804400-1739815200@www.goiasfomento.com
SUMMARY:Rufino Veríssimo: Despachos Internos.
DESCRIPTION:
URL:https://www.goiasfomento.com/agenda/rufino-verissimo-despachos-internos-170/
LOCATION:Gabinete da Diretoria de Operações da GoiásFomento – Agência de Fomento de Goiás.
CATEGORIES:Diretoria de Operações
END:VEVENT
BEGIN:VEVENT
DTSTART;TZID=America/Sao_Paulo:20250217T160000
DTEND;TZID=America/Sao_Paulo:20250217T163000
DTSTAMP:20260425T081345
CREATED:20250217T192525Z
LAST-MODIFIED:20250217T192525Z
UID:40196-1739808000-1739809800@www.goiasfomento.com
SUMMARY:Fernando Dias: Reunião com Guido Juliano Martins de Araújo – Gerente de Agronegócio.
DESCRIPTION:
URL:https://www.goiasfomento.com/agenda/fernando-dias-reuniao-com-guido-juliano-martins-de-araujo-gerente-de-agronegocio-3/
LOCATION:Chefia de Gabinete – Agência de Fomento de Goiás
CATEGORIES:Chefia de Gabinete
END:VEVENT
BEGIN:VEVENT
DTSTART;TZID=America/Sao_Paulo:20250217T163000
DTEND;TZID=America/Sao_Paulo:20250217T180000
DTSTAMP:20260425T081345
CREATED:20250217T192635Z
LAST-MODIFIED:20250217T192635Z
UID:40203-1739809800-1739815200@www.goiasfomento.com
SUMMARY:Fernando Dias: Despachos Internos.
DESCRIPTION:
URL:https://www.goiasfomento.com/agenda/fernando-dias-despachos-internos-65/
LOCATION:Chefia de Gabinete – Agência de Fomento de Goiás
CATEGORIES:Chefia de Gabinete
END:VEVENT
END:VCALENDAR