BEGIN:VCALENDAR
VERSION:2.0
PRODID:-//GoiásFomento - Agência de Fomento - ECPv6.15.20//NONSGML v1.0//EN
CALSCALE:GREGORIAN
METHOD:PUBLISH
X-WR-CALNAME:GoiásFomento - Agência de Fomento
X-ORIGINAL-URL:https://www.goiasfomento.com
X-WR-CALDESC:Eventos para GoiásFomento - Agência de Fomento
REFRESH-INTERVAL;VALUE=DURATION:PT1H
X-Robots-Tag:noindex
X-PUBLISHED-TTL:PT1H
BEGIN:VTIMEZONE
TZID:America/Sao_Paulo
BEGIN:STANDARD
TZOFFSETFROM:-0300
TZOFFSETTO:-0300
TZNAME:-03
DTSTART:20240101T000000
END:STANDARD
END:VTIMEZONE
BEGIN:VEVENT
DTSTART;TZID=America/Sao_Paulo:20250212T060000
DTEND;TZID=America/Sao_Paulo:20250212T150000
DTSTAMP:20260425T081245
CREATED:20250212T164748Z
LAST-MODIFIED:20250212T183752Z
UID:40083-1739340000-1739372400@www.goiasfomento.com
SUMMARY:Rufino Veríssimo: Acompanhamento da Entrega dos Novos Cartões Mães de Goiás Junto a Nova Operadora Inttegra- Cidade Ocidental-GO.
DESCRIPTION:
URL:https://www.goiasfomento.com/agenda/rufino-verissimo-reuniao-com-colegio-estadual-da-policia-militar-de-goias-cidade-ocidental-go/
LOCATION:Cidade Ocidental-GO
CATEGORIES:Diretoria de Operações
END:VEVENT
BEGIN:VEVENT
DTSTART;TZID=America/Sao_Paulo:20250212T080000
DTEND;TZID=America/Sao_Paulo:20250212T100000
DTSTAMP:20260425T081245
CREATED:20250212T193531Z
LAST-MODIFIED:20250212T193531Z
UID:40095-1739347200-1739354400@www.goiasfomento.com
SUMMARY:Lucas Fernandes – Diretor Presidente (Interino): Despachos Internos.
DESCRIPTION:
URL:https://www.goiasfomento.com/agenda/lucas-fernandes-diretor-presidente-interino-despachos-internos-265/
LOCATION:Gabinete da Presidência.
CATEGORIES:Presidência
END:VEVENT
BEGIN:VEVENT
DTSTART;TZID=America/Sao_Paulo:20250212T080000
DTEND;TZID=America/Sao_Paulo:20250212T100000
DTSTAMP:20260425T081245
CREATED:20250212T193613Z
LAST-MODIFIED:20250212T193613Z
UID:40097-1739347200-1739354400@www.goiasfomento.com
SUMMARY:Lucas Fernandes – Despachos Internos.
DESCRIPTION:
URL:https://www.goiasfomento.com/agenda/lucas-fernandes-despachos-internos-711/
LOCATION:Gabinete da Presidência.
CATEGORIES:Diretoria Administrativa e Financeira
END:VEVENT
BEGIN:VEVENT
DTSTART;TZID=America/Sao_Paulo:20250212T080000
DTEND;TZID=America/Sao_Paulo:20250212T120000
DTSTAMP:20260425T081245
CREATED:20250212T163833Z
LAST-MODIFIED:20250212T163833Z
UID:40079-1739347200-1739361600@www.goiasfomento.com
SUMMARY:Fernando Dias: Despachos Internos.
DESCRIPTION:
URL:https://www.goiasfomento.com/agenda/fernando-dias-despachos-internos-57/
LOCATION:Chefia de Gabinete – Agência de Fomento de Goiás
CATEGORIES:Chefia de Gabinete
END:VEVENT
BEGIN:VEVENT
DTSTART;TZID=America/Sao_Paulo:20250212T100000
DTEND;TZID=America/Sao_Paulo:20250212T110000
DTSTAMP:20260425T081245
CREATED:20250212T193946Z
LAST-MODIFIED:20250212T193946Z
UID:40102-1739354400-1739358000@www.goiasfomento.com
SUMMARY:Lucas Fernandes – Diretor Presidente (Interino):  Reunião com o Dep. Anderson Teodoro juntamente com a diretoria do Vinhedo Quartetto  para tratar de linha de crédito para a empresa.
DESCRIPTION:
URL:https://www.goiasfomento.com/agenda/lucas-fernandes-diretor-presidente-interino-reuniao-com-o-dep-anderson-teodoro-juntamente-com-a-diretoria-do-vinhedo-quartetto-para-tratar-de-linha-de-credito-para-a-empresa/
LOCATION:Gabinete da Presidência da GoiásFomento – Agência de Fomento de Goiás.
CATEGORIES:Presidência
END:VEVENT
BEGIN:VEVENT
DTSTART;TZID=America/Sao_Paulo:20250212T100000
DTEND;TZID=America/Sao_Paulo:20250212T110000
DTSTAMP:20260425T081245
CREATED:20250212T194025Z
LAST-MODIFIED:20250212T194025Z
UID:40106-1739354400-1739358000@www.goiasfomento.com
SUMMARY:Lucas Fernandes:  Reunião com o Dep. Anderson Teodoro juntamente com a diretoria do Vinhedo Quartetto  para tratar de linha de crédito para a empresa.
DESCRIPTION:
URL:https://www.goiasfomento.com/agenda/lucas-fernandes-reuniao-com-o-dep-anderson-teodoro-juntamente-com-a-diretoria-do-vinhedo-quartetto-para-tratar-de-linha-de-credito-para-a-empresa/
LOCATION:Gabinete da Presidência da GoiásFomento – Agência de Fomento de Goiás.
CATEGORIES:Diretoria Administrativa e Financeira
END:VEVENT
BEGIN:VEVENT
DTSTART;TZID=America/Sao_Paulo:20250212T110000
DTEND;TZID=America/Sao_Paulo:20250212T120000
DTSTAMP:20260425T081245
CREATED:20250212T193835Z
LAST-MODIFIED:20250212T193835Z
UID:40099-1739358000-1739361600@www.goiasfomento.com
SUMMARY:Lucas Fernandes – Diretor Presidente (Interino): Despachos Internos.
DESCRIPTION:
URL:https://www.goiasfomento.com/agenda/lucas-fernandes-diretor-presidente-interino-despachos-internos-266/
LOCATION:Gabinete da Presidência.
CATEGORIES:Presidência
END:VEVENT
BEGIN:VEVENT
DTSTART;TZID=America/Sao_Paulo:20250212T110000
DTEND;TZID=America/Sao_Paulo:20250212T120000
DTSTAMP:20260425T081245
CREATED:20250212T193934Z
LAST-MODIFIED:20250212T193934Z
UID:40101-1739358000-1739361600@www.goiasfomento.com
SUMMARY:Lucas Fernandes – Despachos Internos.
DESCRIPTION:
URL:https://www.goiasfomento.com/agenda/lucas-fernandes-despachos-internos-712/
LOCATION:Gabinete da Presidência.
CATEGORIES:Diretoria Administrativa e Financeira
END:VEVENT
BEGIN:VEVENT
DTSTART;TZID=America/Sao_Paulo:20250212T140000
DTEND;TZID=America/Sao_Paulo:20250212T180000
DTSTAMP:20260425T081245
CREATED:20250212T163857Z
LAST-MODIFIED:20250212T163857Z
UID:40081-1739368800-1739383200@www.goiasfomento.com
SUMMARY:Fernando Dias: Despachos Internos.
DESCRIPTION:
URL:https://www.goiasfomento.com/agenda/fernando-dias-despachos-internos-58/
LOCATION:Chefia de Gabinete – Agência de Fomento de Goiás
CATEGORIES:Chefia de Gabinete
END:VEVENT
BEGIN:VEVENT
DTSTART;TZID=America/Sao_Paulo:20250212T140000
DTEND;TZID=America/Sao_Paulo:20250212T180000
DTSTAMP:20260425T081245
CREATED:20250212T194009Z
LAST-MODIFIED:20250212T194009Z
UID:40104-1739368800-1739383200@www.goiasfomento.com
SUMMARY:Lucas Fernandes – Diretor Presidente (Interino): Despachos Internos.
DESCRIPTION:
URL:https://www.goiasfomento.com/agenda/lucas-fernandes-diretor-presidente-interino-despachos-internos-267/
LOCATION:Gabinete da Presidência.
CATEGORIES:Presidência
END:VEVENT
BEGIN:VEVENT
DTSTART;TZID=America/Sao_Paulo:20250212T140000
DTEND;TZID=America/Sao_Paulo:20250212T180000
DTSTAMP:20260425T081245
CREATED:20250212T194046Z
LAST-MODIFIED:20250212T194046Z
UID:40108-1739368800-1739383200@www.goiasfomento.com
SUMMARY:Lucas Fernandes – Despachos Internos.
DESCRIPTION:
URL:https://www.goiasfomento.com/agenda/lucas-fernandes-despachos-internos-713/
LOCATION:Gabinete da Presidência.
CATEGORIES:Diretoria Administrativa e Financeira
END:VEVENT
BEGIN:VEVENT
DTSTART;TZID=America/Sao_Paulo:20250212T150000
DTEND;TZID=America/Sao_Paulo:20250212T180000
DTSTAMP:20260425T081245
CREATED:20250212T191042Z
LAST-MODIFIED:20250212T191042Z
UID:40089-1739372400-1739383200@www.goiasfomento.com
SUMMARY:Rufino Veríssimo: Despachos Internos.
DESCRIPTION:
URL:https://www.goiasfomento.com/agenda/rufino-verissimo-despachos-internos-161/
LOCATION:Gabinete da Diretoria de Operações da GoiásFomento – Agência de Fomento de Goiás.
CATEGORIES:Diretoria de Operações
END:VEVENT
BEGIN:VEVENT
DTSTART;TZID=America/Sao_Paulo:20250212T180000
DTEND;TZID=America/Sao_Paulo:20250212T194500
DTSTAMP:20260425T081245
CREATED:20250212T193112Z
LAST-MODIFIED:20250212T194502Z
UID:40091-1739383200-1739389500@www.goiasfomento.com
SUMMARY:Lucas Fernandes – Diretor Presidente (Interino): Entrevista ao vivo na  TV 6.1 TV Aberta - Pauta: Ações da GoiásFomento em 2025.
DESCRIPTION:
URL:https://www.goiasfomento.com/agenda/lucas-fernandes-diretor-presidente-interino-entrevista-tv-6-1-tv-aberta-pauta-acoes-da-goiasfomento-em-2025/
CATEGORIES:Presidência
END:VEVENT
BEGIN:VEVENT
DTSTART;TZID=America/Sao_Paulo:20250212T180000
DTEND;TZID=America/Sao_Paulo:20250212T194500
DTSTAMP:20260425T081245
CREATED:20250212T193213Z
LAST-MODIFIED:20250212T194439Z
UID:40093-1739383200-1739389500@www.goiasfomento.com
SUMMARY:Lucas Fernandes: Entrevista ao vivo na  TV 6.1 TV Aberta - Pauta: Ações da GoiásFomento em 2025.
DESCRIPTION:
URL:https://www.goiasfomento.com/agenda/lucas-fernandes-entrevista-tv-6-1-tv-aberta-pauta-acoes-da-goiasfomento-em-2025/
CATEGORIES:Diretoria Administrativa e Financeira
END:VEVENT
END:VCALENDAR