BEGIN:VCALENDAR
VERSION:2.0
PRODID:-//GoiásFomento - Agência de Fomento - ECPv6.15.20//NONSGML v1.0//EN
CALSCALE:GREGORIAN
METHOD:PUBLISH
X-ORIGINAL-URL:https://www.goiasfomento.com
X-WR-CALDESC:Eventos para GoiásFomento - Agência de Fomento
REFRESH-INTERVAL;VALUE=DURATION:PT1H
X-Robots-Tag:noindex
X-PUBLISHED-TTL:PT1H
BEGIN:VTIMEZONE
TZID:America/Sao_Paulo
BEGIN:STANDARD
TZOFFSETFROM:-0300
TZOFFSETTO:-0300
TZNAME:-03
DTSTART:20230101T000000
END:STANDARD
END:VTIMEZONE
BEGIN:VEVENT
DTSTART;VALUE=DATE:20240905
DTEND;VALUE=DATE:20240906
DTSTAMP:20260425T075656
CREATED:20240905T113136Z
LAST-MODIFIED:20240905T113136Z
UID:36594-1725494400-1725580799@www.goiasfomento.com
SUMMARY:Cargo Vago desde 02/07/2024.
DESCRIPTION:
URL:https://www.goiasfomento.com/agenda/cargo-vago-desde-02-07-2024-45/
LOCATION:Chefia de Gabinete – Agência de Fomento de Goiás
CATEGORIES:Chefia de Gabinete
END:VEVENT
BEGIN:VEVENT
DTSTART;TZID=America/Sao_Paulo:20240905T080000
DTEND;TZID=America/Sao_Paulo:20240905T120000
DTSTAMP:20260425T075656
CREATED:20240905T113004Z
LAST-MODIFIED:20240905T113004Z
UID:36590-1725523200-1725537600@www.goiasfomento.com
SUMMARY:Vinícius Luz: Despachos Internos.
DESCRIPTION:
URL:https://www.goiasfomento.com/agenda/vinicius-luz-despachos-internos-52/
LOCATION:Gabinete da Diretoria de Operações da GoiásFomento – Agência de Fomento de Goiás.
CATEGORIES:Diretoria de Operações
END:VEVENT
BEGIN:VEVENT
DTSTART;TZID=America/Sao_Paulo:20240905T080000
DTEND;TZID=America/Sao_Paulo:20240905T120000
DTSTAMP:20260425T075656
CREATED:20240905T113516Z
LAST-MODIFIED:20240905T113516Z
UID:36598-1725523200-1725537600@www.goiasfomento.com
SUMMARY:Lucas Fernandes – Diretor Presidente (Interino): Despachos Internos.
DESCRIPTION:
URL:https://www.goiasfomento.com/agenda/lucas-fernandes-diretor-presidente-interino-despachos-internos-50/
LOCATION:Gabinete da Presidência da GoiásFomento – Agência de Fomento de Goiás.
CATEGORIES:Presidência
END:VEVENT
BEGIN:VEVENT
DTSTART;TZID=America/Sao_Paulo:20240905T080000
DTEND;TZID=America/Sao_Paulo:20240905T120000
DTSTAMP:20260425T075656
CREATED:20240905T113615Z
LAST-MODIFIED:20240905T113615Z
UID:36602-1725523200-1725537600@www.goiasfomento.com
SUMMARY:Lucas Fernandes: Despachos Internos.
DESCRIPTION:
URL:https://www.goiasfomento.com/agenda/lucas-fernandes-despachos-internos-498/
LOCATION:Gabinete da Diretoria Administrativa e Financeira – Agência de Fomento de Goiás.
CATEGORIES:Diretoria Administrativa e Financeira
END:VEVENT
BEGIN:VEVENT
DTSTART;TZID=America/Sao_Paulo:20240905T140000
DTEND;TZID=America/Sao_Paulo:20240905T150000
DTSTAMP:20260425T075656
CREATED:20240905T113543Z
LAST-MODIFIED:20240905T142317Z
UID:36600-1725544800-1725548400@www.goiasfomento.com
SUMMARY:Lucas Fernandes – Diretor Presidente (Interino): Despachos Internos.
DESCRIPTION:
URL:https://www.goiasfomento.com/agenda/lucas-fernandes-diretor-presidente-interino-despachos-internos-51/
LOCATION:Gabinete da Presidência da GoiásFomento – Agência de Fomento de Goiás.
CATEGORIES:Presidência
END:VEVENT
BEGIN:VEVENT
DTSTART;TZID=America/Sao_Paulo:20240905T140000
DTEND;TZID=America/Sao_Paulo:20240905T150000
DTSTAMP:20260425T075656
CREATED:20240905T113648Z
LAST-MODIFIED:20240905T142339Z
UID:36604-1725544800-1725548400@www.goiasfomento.com
SUMMARY:Lucas Fernandes: Despachos Internos.
DESCRIPTION:
URL:https://www.goiasfomento.com/agenda/lucas-fernandes-despachos-internos-499/
LOCATION:Gabinete da Diretoria Administrativa e Financeira – Agência de Fomento de Goiás.
CATEGORIES:Diretoria Administrativa e Financeira
END:VEVENT
BEGIN:VEVENT
DTSTART;TZID=America/Sao_Paulo:20240905T140000
DTEND;TZID=America/Sao_Paulo:20240905T180000
DTSTAMP:20260425T075656
CREATED:20240905T113031Z
LAST-MODIFIED:20240905T113031Z
UID:36592-1725544800-1725559200@www.goiasfomento.com
SUMMARY:Vinícius Luz: Despachos Internos.
DESCRIPTION:
URL:https://www.goiasfomento.com/agenda/vinicius-luz-despachos-internos-53/
LOCATION:Gabinete da Diretoria de Operações da GoiásFomento – Agência de Fomento de Goiás.
CATEGORIES:Diretoria de Operações
END:VEVENT
BEGIN:VEVENT
DTSTART;TZID=America/Sao_Paulo:20240905T150000
DTEND;TZID=America/Sao_Paulo:20240905T180000
DTSTAMP:20260425T075656
CREATED:20240905T142515Z
LAST-MODIFIED:20240905T142515Z
UID:36613-1725548400-1725559200@www.goiasfomento.com
SUMMARY:Lucas Fernandes – Diretor Presidente (Interino): Expo Peças-Feira da Reparação Automotiva de Goiás.
DESCRIPTION:
URL:https://www.goiasfomento.com/agenda/lucas-fernandes-diretor-presidente-interino-expo-pecas-feira-da-reparacao-automotiva-de-goias/
LOCATION:Centro de Convenções de Goiânia.
CATEGORIES:Presidência
END:VEVENT
BEGIN:VEVENT
DTSTART;TZID=America/Sao_Paulo:20240905T150000
DTEND;TZID=America/Sao_Paulo:20240905T180000
DTSTAMP:20260425T075656
CREATED:20240905T142614Z
LAST-MODIFIED:20240905T142614Z
UID:36615-1725548400-1725559200@www.goiasfomento.com
SUMMARY:Lucas Fernandes: Expo Peças-Feira da Reparação Automotiva de Goiás.
DESCRIPTION:
URL:https://www.goiasfomento.com/agenda/lucas-fernandes-expo-pecas-feira-da-reparacao-automotiva-de-goias/
LOCATION:Centro de Convenções de Goiânia.
CATEGORIES:Diretoria Administrativa e Financeira
END:VEVENT
END:VCALENDAR