BEGIN:VCALENDAR
VERSION:2.0
PRODID:-//GoiásFomento - Agência de Fomento - ECPv6.15.20//NONSGML v1.0//EN
CALSCALE:GREGORIAN
METHOD:PUBLISH
X-ORIGINAL-URL:https://www.goiasfomento.com
X-WR-CALDESC:Eventos para GoiásFomento - Agência de Fomento
REFRESH-INTERVAL;VALUE=DURATION:PT1H
X-Robots-Tag:noindex
X-PUBLISHED-TTL:PT1H
BEGIN:VTIMEZONE
TZID:America/Sao_Paulo
BEGIN:STANDARD
TZOFFSETFROM:-0300
TZOFFSETTO:-0300
TZNAME:-03
DTSTART:20230101T000000
END:STANDARD
END:VTIMEZONE
BEGIN:VEVENT
DTSTART;VALUE=DATE:20240815
DTEND;VALUE=DATE:20240816
DTSTAMP:20260425T135923
CREATED:20240814T131946Z
LAST-MODIFIED:20240814T132111Z
UID:36281-1723680000-1723766399@www.goiasfomento.com
SUMMARY:Cargo Vago desde 02/07/2024.
DESCRIPTION:
URL:https://www.goiasfomento.com/agenda/cargo-vago-desde-02-07-2024-30/
CATEGORIES:Chefia de Gabinete
END:VEVENT
BEGIN:VEVENT
DTSTART;TZID=America/Sao_Paulo:20240815T080000
DTEND;TZID=America/Sao_Paulo:20240815T090000
DTSTAMP:20260425T135923
CREATED:20240814T123544Z
LAST-MODIFIED:20240814T125528Z
UID:36259-1723708800-1723712400@www.goiasfomento.com
SUMMARY:Lucas Fernandes – Diretor Presidente (Interino): Despachos Internos.
DESCRIPTION:
URL:https://www.goiasfomento.com/agenda/lucas-fernandes-diretor-presidente-interino-despachos-internos-16/
LOCATION:Gabinete da Presidência da GoiásFomento – Agência de Fomento de Goiás.
CATEGORIES:Presidência
END:VEVENT
BEGIN:VEVENT
DTSTART;TZID=America/Sao_Paulo:20240815T080000
DTEND;TZID=America/Sao_Paulo:20240815T090000
DTSTAMP:20260425T135923
CREATED:20240814T131613Z
LAST-MODIFIED:20240814T131613Z
UID:36273-1723708800-1723712400@www.goiasfomento.com
SUMMARY:Lucas Fernandes: Despachos Internos.
DESCRIPTION:
URL:https://www.goiasfomento.com/agenda/lucas-fernandes-despachos-internos-465/
LOCATION:Diretoria Administrativa e Financeira da GoiásFomento – Agência de Fomento de Goiás.
CATEGORIES:Diretoria Administrativa e Financeira
END:VEVENT
BEGIN:VEVENT
DTSTART;TZID=America/Sao_Paulo:20240815T080000
DTEND;TZID=America/Sao_Paulo:20240815T120000
DTSTAMP:20260425T135923
CREATED:20240815T121459Z
LAST-MODIFIED:20240815T121459Z
UID:36297-1723708800-1723723200@www.goiasfomento.com
SUMMARY:Vinícius Luz: Despachos Internos.
DESCRIPTION:
URL:https://www.goiasfomento.com/agenda/vinicius-luz-despachos-internos-22/
LOCATION:Gabinete da Diretoria de Operações da GoiásFomento – Agência de Fomento de Goiás.
CATEGORIES:Diretoria de Operações
END:VEVENT
BEGIN:VEVENT
DTSTART;TZID=America/Sao_Paulo:20240815T090000
DTEND;TZID=America/Sao_Paulo:20240815T110000
DTSTAMP:20260425T135923
CREATED:20240814T115455Z
LAST-MODIFIED:20240814T123411Z
UID:36251-1723712400-1723719600@www.goiasfomento.com
SUMMARY:Lucas Fernandes – Diretor Presidente (Interino): Reunião Ordinária do Conselho Desenvolvimento do Estado de Goiás CDE/FCO.
DESCRIPTION:
URL:https://www.goiasfomento.com/agenda/lucas-fernandes-de-andrade-diretor-presidente-interino-reuniao-ordinaria-do-conselho-desenvolvimento-do-estado-de-goias-cde-fco/
LOCATION:Centro Cultural Oscar Niemeyer\, Av. Dep. Jamel Cecílio\, Km 01 – Chácaras Alto da Glória\, Goiânia – GO\, 74891-135\, Brasil
CATEGORIES:Presidência
END:VEVENT
BEGIN:VEVENT
DTSTART;TZID=America/Sao_Paulo:20240815T090000
DTEND;TZID=America/Sao_Paulo:20240815T110000
DTSTAMP:20260425T135923
CREATED:20240814T122257Z
LAST-MODIFIED:20240814T122257Z
UID:36255-1723712400-1723719600@www.goiasfomento.com
SUMMARY:Lucas Fernandes: Reunião Ordinária do Conselho Desenvolvimento do Estado de Goiás CDE/FCO.
DESCRIPTION:
URL:https://www.goiasfomento.com/agenda/lucas-fernandes-reuniao-ordinaria-do-conselho-desenvolvimento-do-estado-de-goias-cde-fco/
LOCATION:Centro Cultural Oscar Niemeyer\, Av. Dep. Jamel Cecílio\, Km 01 – Chácaras Alto da Glória\, Goiânia – GO\, 74891-135\, Brasil
CATEGORIES:Diretoria Administrativa e Financeira
END:VEVENT
BEGIN:VEVENT
DTSTART;TZID=America/Sao_Paulo:20240815T110000
DTEND;TZID=America/Sao_Paulo:20240815T113000
DTSTAMP:20260425T135923
CREATED:20240812T193333Z
LAST-MODIFIED:20240813T151224Z
UID:36179-1723719600-1723721400@www.goiasfomento.com
SUMMARY:Lucas Fernandes – Diretor Presidente (Interino): Entrevista a TV Brasil Central - TBC.
DESCRIPTION:
URL:https://www.goiasfomento.com/agenda/lucas-fernandes-de-andrade-diretor-presidente-interino-entrevista-a-tv-brasil-central-tbc/
LOCATION:Estudio da TV Brasil Central.
CATEGORIES:Presidência
END:VEVENT
BEGIN:VEVENT
DTSTART;TZID=America/Sao_Paulo:20240815T110000
DTEND;TZID=America/Sao_Paulo:20240815T113000
DTSTAMP:20260425T135924
CREATED:20240812T193422Z
LAST-MODIFIED:20240813T151901Z
UID:36181-1723719600-1723721400@www.goiasfomento.com
SUMMARY:Lucas Fernande: Entrevista a TV Brasil Central - TBC.
DESCRIPTION:
URL:https://www.goiasfomento.com/agenda/lucas-fernandes-de-andrade-entrevista-a-tv-brasil-central-tbc/
LOCATION:Estudio da TV Brasil Central.
CATEGORIES:Diretoria Administrativa e Financeira
END:VEVENT
BEGIN:VEVENT
DTSTART;TZID=America/Sao_Paulo:20240815T113000
DTEND;TZID=America/Sao_Paulo:20240815T120000
DTSTAMP:20260425T135924
CREATED:20240814T125726Z
LAST-MODIFIED:20240814T125737Z
UID:36269-1723721400-1723723200@www.goiasfomento.com
SUMMARY:Lucas Fernandes – Diretor Presidente (Interino): Despachos Internos.
DESCRIPTION:
URL:https://www.goiasfomento.com/agenda/lucas-fernandes-diretor-presidente-interino-despachos-internos-18/
LOCATION:Gabinete da Presidência da GoiásFomento – Agência de Fomento de Goiás.
CATEGORIES:Presidência
END:VEVENT
BEGIN:VEVENT
DTSTART;TZID=America/Sao_Paulo:20240815T113000
DTEND;TZID=America/Sao_Paulo:20240815T120000
DTSTAMP:20260425T135924
CREATED:20240814T125946Z
LAST-MODIFIED:20240814T130109Z
UID:36271-1723721400-1723723200@www.goiasfomento.com
SUMMARY:Lucas Fernandes: Despachos Internos.
DESCRIPTION:
URL:https://www.goiasfomento.com/agenda/lucas-fernandes-despachos-internos-464/
LOCATION:Diretoria Administrativa e Financeira da GoiásFomento – Agência de Fomento de Goiás.
CATEGORIES:Diretoria Administrativa e Financeira
END:VEVENT
BEGIN:VEVENT
DTSTART;TZID=America/Sao_Paulo:20240815T140000
DTEND;TZID=America/Sao_Paulo:20240815T180000
DTSTAMP:20260425T135924
CREATED:20240815T121545Z
LAST-MODIFIED:20240815T121545Z
UID:36299-1723730400-1723744800@www.goiasfomento.com
SUMMARY:Vinícius Luz: Despachos Internos.
DESCRIPTION:
URL:https://www.goiasfomento.com/agenda/vinicius-luz-despachos-internos-23/
LOCATION:Gabinete da Diretoria de Operações da GoiásFomento – Agência de Fomento de Goiás.
CATEGORIES:Diretoria de Operações
END:VEVENT
BEGIN:VEVENT
DTSTART;TZID=America/Sao_Paulo:20240815T140000
DTEND;TZID=America/Sao_Paulo:20240815T180000
DTSTAMP:20260425T135924
CREATED:20240815T122251Z
LAST-MODIFIED:20240815T122251Z
UID:36301-1723730400-1723744800@www.goiasfomento.com
SUMMARY:Lucas Fernandes – Diretor Presidente (Interino): Despachos Internos.
DESCRIPTION:
URL:https://www.goiasfomento.com/agenda/lucas-fernandes-diretor-presidente-interino-despachos-internos-21/
LOCATION:Gabinete da Presidência da GoiásFomento – Agência de Fomento de Goiás.
CATEGORIES:Presidência
END:VEVENT
BEGIN:VEVENT
DTSTART;TZID=America/Sao_Paulo:20240815T140000
DTEND;TZID=America/Sao_Paulo:20240815T180000
DTSTAMP:20260425T135924
CREATED:20240815T122337Z
LAST-MODIFIED:20240815T122337Z
UID:36303-1723730400-1723744800@www.goiasfomento.com
SUMMARY:Lucas Fernandes: Despachos Internos.
DESCRIPTION:
URL:https://www.goiasfomento.com/agenda/lucas-fernandes-despachos-internos-468/
LOCATION:Diretoria Administrativa e Financeira da GoiásFomento – Agência de Fomento de Goiás.
CATEGORIES:Diretoria Administrativa e Financeira
END:VEVENT
END:VCALENDAR