BEGIN:VCALENDAR
VERSION:2.0
PRODID:-//GoiásFomento - Agência de Fomento - ECPv6.15.20//NONSGML v1.0//EN
CALSCALE:GREGORIAN
METHOD:PUBLISH
X-ORIGINAL-URL:https://www.goiasfomento.com
X-WR-CALDESC:Eventos para GoiásFomento - Agência de Fomento
REFRESH-INTERVAL;VALUE=DURATION:PT1H
X-Robots-Tag:noindex
X-PUBLISHED-TTL:PT1H
BEGIN:VTIMEZONE
TZID:America/Sao_Paulo
BEGIN:STANDARD
TZOFFSETFROM:-0300
TZOFFSETTO:-0300
TZNAME:-03
DTSTART:20230101T000000
END:STANDARD
END:VTIMEZONE
BEGIN:VEVENT
DTSTART;VALUE=DATE:20240812
DTEND;VALUE=DATE:20240813
DTSTAMP:20260425T135923
CREATED:20240808T170033Z
LAST-MODIFIED:20240808T170428Z
UID:36124-1723420800-1723507199@www.goiasfomento.com
SUMMARY:Cargo Vago desde 02/07/2024.
DESCRIPTION:
URL:https://www.goiasfomento.com/agenda/cargo-vago-desde-02-07-2024-27/
LOCATION:Chefia de Gabinete – Agência de Fomento de Goiás
CATEGORIES:Chefia de Gabinete
END:VEVENT
BEGIN:VEVENT
DTSTART;VALUE=DATE:20240812
DTEND;VALUE=DATE:20240813
DTSTAMP:20260425T135923
CREATED:20240808T171041Z
LAST-MODIFIED:20240808T171501Z
UID:36126-1723420800-1723507199@www.goiasfomento.com
SUMMARY:Lucas Fernandes – Diretor Presidente (Interino): Abertura Oficial da Semana do Crédito GoiásFomento em Catalão-Goiás.
DESCRIPTION:
URL:https://www.goiasfomento.com/agenda/lucas-fernandes-diretor-presidente-interino-abertura-oficial-da-semana-do-credito-goiasfomento-em-catalao-goias/
LOCATION:Catalão- Goiás
CATEGORIES:Presidência
END:VEVENT
BEGIN:VEVENT
DTSTART;VALUE=DATE:20240812
DTEND;VALUE=DATE:20240813
DTSTAMP:20260425T135923
CREATED:20240808T171556Z
LAST-MODIFIED:20240808T172812Z
UID:36129-1723420800-1723507199@www.goiasfomento.com
SUMMARY:Lucas Fernandes: Abertura Oficial da Semana do Crédito GoiásFomento em Catalão-Goiás.
DESCRIPTION:
URL:https://www.goiasfomento.com/agenda/lucas-fernandes-abertura-oficial-da-semana-do-credito-goiasfomento-em-catalao-goias/
LOCATION:Catalão- Goiás
CATEGORIES:Diretoria Administrativa e Financeira
END:VEVENT
BEGIN:VEVENT
DTSTART;TZID=America/Sao_Paulo:20240812T080000
DTEND;TZID=America/Sao_Paulo:20240812T120000
DTSTAMP:20260425T135923
CREATED:20240812T105334Z
LAST-MODIFIED:20240812T105334Z
UID:36171-1723449600-1723464000@www.goiasfomento.com
SUMMARY:Vinícius Luz: Despachos Internos.
DESCRIPTION:
URL:https://www.goiasfomento.com/agenda/vinicius-luz-despachos-internos-16/
LOCATION:Gabinete da Diretoria de Operações da GoiásFomento – Agência de Fomento de Goiás.
CATEGORIES:Diretoria de Operações
END:VEVENT
BEGIN:VEVENT
DTSTART;TZID=America/Sao_Paulo:20240812T140000
DTEND;TZID=America/Sao_Paulo:20240812T180000
DTSTAMP:20260425T135923
CREATED:20240812T105420Z
LAST-MODIFIED:20240812T105420Z
UID:36173-1723471200-1723485600@www.goiasfomento.com
SUMMARY:Vinícius Luz: Despachos Internos.
DESCRIPTION:
URL:https://www.goiasfomento.com/agenda/vinicius-luz-despachos-internos-17/
LOCATION:Gabinete da Diretoria de Operações da GoiásFomento – Agência de Fomento de Goiás.
CATEGORIES:Diretoria de Operações
END:VEVENT
END:VCALENDAR