BEGIN:VCALENDAR
VERSION:2.0
PRODID:-//GoiásFomento - Agência de Fomento - ECPv6.15.20//NONSGML v1.0//EN
CALSCALE:GREGORIAN
METHOD:PUBLISH
X-WR-CALNAME:GoiásFomento - Agência de Fomento
X-ORIGINAL-URL:https://www.goiasfomento.com
X-WR-CALDESC:Eventos para GoiásFomento - Agência de Fomento
REFRESH-INTERVAL;VALUE=DURATION:PT1H
X-Robots-Tag:noindex
X-PUBLISHED-TTL:PT1H
BEGIN:VTIMEZONE
TZID:America/Sao_Paulo
BEGIN:STANDARD
TZOFFSETFROM:-0300
TZOFFSETTO:-0300
TZNAME:-03
DTSTART:20230101T000000
END:STANDARD
END:VTIMEZONE
BEGIN:VEVENT
DTSTART;VALUE=DATE:20240731
DTEND;VALUE=DATE:20240801
DTSTAMP:20260425T171323
CREATED:20240731T112833Z
LAST-MODIFIED:20240731T112833Z
UID:35979-1722384000-1722470399@www.goiasfomento.com
SUMMARY:Cargo Vago desde 02/07/2024.
DESCRIPTION:
URL:https://www.goiasfomento.com/agenda/cargo-vago-desde-02-07-2024-19/
LOCATION:Chefia de Gabinete – Agência de Fomento de Goiás
CATEGORIES:Chefia de Gabinete
END:VEVENT
BEGIN:VEVENT
DTSTART;TZID=America/Sao_Paulo:20240731T080000
DTEND;TZID=America/Sao_Paulo:20240731T090000
DTSTAMP:20260425T171323
CREATED:20240731T113917Z
LAST-MODIFIED:20240731T113917Z
UID:35981-1722412800-1722416400@www.goiasfomento.com
SUMMARY:Lucas Fernandes de Andrade – Diretor Presidente (Interino): Despachos Internos.
DESCRIPTION:
URL:https://www.goiasfomento.com/agenda/lucas-fernandes-de-andrade-diretor-presidente-interino-despachos-internos-45/
LOCATION:Gabinete da Presidência da GoiásFomento – Agência de Fomento de Goiás.
CATEGORIES:Presidência
END:VEVENT
BEGIN:VEVENT
DTSTART;TZID=America/Sao_Paulo:20240731T080000
DTEND;TZID=America/Sao_Paulo:20240731T090000
DTSTAMP:20260425T171323
CREATED:20240731T114047Z
LAST-MODIFIED:20240731T114047Z
UID:35985-1722412800-1722416400@www.goiasfomento.com
SUMMARY:Lucas Fernandes de Andrade: Despachos Internos.
DESCRIPTION:
URL:https://www.goiasfomento.com/agenda/lucas-fernandes-de-andrade-despachos-internos-34/
LOCATION:Diretoria Administrativa e Financeira da GoiásFomento – Agência de Fomento de Goiás.
CATEGORIES:Diretoria Administrativa e Financeira
END:VEVENT
BEGIN:VEVENT
DTSTART;TZID=America/Sao_Paulo:20240731T080000
DTEND;TZID=America/Sao_Paulo:20240731T120000
DTSTAMP:20260425T171323
CREATED:20240731T111539Z
LAST-MODIFIED:20240731T111539Z
UID:35974-1722412800-1722427200@www.goiasfomento.com
SUMMARY:Vinícius de Cecílio Luz: Despachos Internos.
DESCRIPTION:
URL:https://www.goiasfomento.com/agenda/vinicius-de-cecilio-luz-despachos-internos-199/
LOCATION:Gabinete da Diretoria de Operações da GoiásFomento – Agência de Fomento de Goiás.
CATEGORIES:Diretoria de Operações
END:VEVENT
BEGIN:VEVENT
DTSTART;TZID=America/Sao_Paulo:20240731T090000
DTEND;TZID=America/Sao_Paulo:20240731T100000
DTSTAMP:20260425T171323
CREATED:20240731T114453Z
LAST-MODIFIED:20240731T114453Z
UID:35993-1722416400-1722420000@www.goiasfomento.com
SUMMARY:Lucas Fernandes de Andrade – Diretor Presidente (Interino): Reunião Ordinária do Conselho Desenvolvimento do Estado de Goiás CDE/FCO ( online).
DESCRIPTION:
URL:https://www.goiasfomento.com/agenda/lucas-fernandes-de-andrade-diretor-presidente-interino-reuniao-ordinaria-do-conselho-desenvolvimento-do-estado-de-goias-cde-fco-online/
LOCATION:Gabinete da Presidência da GoiásFomento – Agência de Fomento de Goiás.
CATEGORIES:Presidência
END:VEVENT
BEGIN:VEVENT
DTSTART;TZID=America/Sao_Paulo:20240731T090000
DTEND;TZID=America/Sao_Paulo:20240731T100000
DTSTAMP:20260425T171323
CREATED:20240731T114524Z
LAST-MODIFIED:20240731T114524Z
UID:35995-1722416400-1722420000@www.goiasfomento.com
SUMMARY:Lucas Fernandes de Andrade: Reunião Ordinária do Conselho Desenvolvimento do Estado de Goiás CDE/FCO ( online).
DESCRIPTION:
URL:https://www.goiasfomento.com/agenda/lucas-fernandes-de-andrade-reuniao-ordinaria-do-conselho-desenvolvimento-do-estado-de-goias-cde-fco-online/
LOCATION:Diretoria Administrativa e Financeira da GoiásFomento – Agência de Fomento de Goiás.
CATEGORIES:Diretoria Administrativa e Financeira
END:VEVENT
BEGIN:VEVENT
DTSTART;TZID=America/Sao_Paulo:20240731T100000
DTEND;TZID=America/Sao_Paulo:20240731T120000
DTSTAMP:20260425T171323
CREATED:20240731T114005Z
LAST-MODIFIED:20240731T114005Z
UID:35983-1722420000-1722427200@www.goiasfomento.com
SUMMARY:Lucas Fernandes de Andrade – Diretor Presidente (Interino): Despachos Internos.
DESCRIPTION:
URL:https://www.goiasfomento.com/agenda/lucas-fernandes-de-andrade-diretor-presidente-interino-despachos-internos-46/
LOCATION:Gabinete da Presidência da GoiásFomento – Agência de Fomento de Goiás.
CATEGORIES:Presidência
END:VEVENT
BEGIN:VEVENT
DTSTART;TZID=America/Sao_Paulo:20240731T100000
DTEND;TZID=America/Sao_Paulo:20240731T120000
DTSTAMP:20260425T171323
CREATED:20240731T114124Z
LAST-MODIFIED:20240731T114124Z
UID:35987-1722420000-1722427200@www.goiasfomento.com
SUMMARY:Lucas Fernandes de Andrade: Despachos Internos.
DESCRIPTION:
URL:https://www.goiasfomento.com/agenda/lucas-fernandes-de-andrade-despachos-internos-35/
LOCATION:Diretoria Administrativa e Financeira da GoiásFomento – Agência de Fomento de Goiás.
CATEGORIES:Diretoria Administrativa e Financeira
END:VEVENT
BEGIN:VEVENT
DTSTART;TZID=America/Sao_Paulo:20240731T140000
DTEND;TZID=America/Sao_Paulo:20240731T180000
DTSTAMP:20260425T171323
CREATED:20240731T111609Z
LAST-MODIFIED:20240731T111609Z
UID:35976-1722434400-1722448800@www.goiasfomento.com
SUMMARY:Vinícius de Cecílio Luz: Despachos Internos.
DESCRIPTION:
URL:https://www.goiasfomento.com/agenda/vinicius-de-cecilio-luz-despachos-internos-200/
LOCATION:Gabinete da Diretoria de Operações da GoiásFomento – Agência de Fomento de Goiás.
CATEGORIES:Diretoria de Operações
END:VEVENT
BEGIN:VEVENT
DTSTART;TZID=America/Sao_Paulo:20240731T140000
DTEND;TZID=America/Sao_Paulo:20240731T180000
DTSTAMP:20260425T171323
CREATED:20240731T114147Z
LAST-MODIFIED:20240731T114147Z
UID:35989-1722434400-1722448800@www.goiasfomento.com
SUMMARY:Lucas Fernandes de Andrade: Despachos Internos.
DESCRIPTION:
URL:https://www.goiasfomento.com/agenda/lucas-fernandes-de-andrade-despachos-internos-36/
LOCATION:Diretoria Administrativa e Financeira da GoiásFomento – Agência de Fomento de Goiás.
CATEGORIES:Diretoria Administrativa e Financeira
END:VEVENT
BEGIN:VEVENT
DTSTART;TZID=America/Sao_Paulo:20240731T140000
DTEND;TZID=America/Sao_Paulo:20240731T180000
DTSTAMP:20260425T171323
CREATED:20240731T114408Z
LAST-MODIFIED:20240731T114408Z
UID:35991-1722434400-1722448800@www.goiasfomento.com
SUMMARY:Lucas Fernandes de Andrade – Diretor Presidente (Interino): Despachos Internos.
DESCRIPTION:
URL:https://www.goiasfomento.com/agenda/lucas-fernandes-de-andrade-diretor-presidente-interino-despachos-internos-47/
LOCATION:Gabinete da Presidência da GoiásFomento – Agência de Fomento de Goiás.
CATEGORIES:Presidência
END:VEVENT
END:VCALENDAR