BEGIN:VCALENDAR
VERSION:2.0
PRODID:-//GoiásFomento - Agência de Fomento - ECPv6.15.20//NONSGML v1.0//EN
CALSCALE:GREGORIAN
METHOD:PUBLISH
X-ORIGINAL-URL:https://www.goiasfomento.com
X-WR-CALDESC:Eventos para GoiásFomento - Agência de Fomento
REFRESH-INTERVAL;VALUE=DURATION:PT1H
X-Robots-Tag:noindex
X-PUBLISHED-TTL:PT1H
BEGIN:VTIMEZONE
TZID:America/Sao_Paulo
BEGIN:STANDARD
TZOFFSETFROM:-0300
TZOFFSETTO:-0300
TZNAME:-03
DTSTART:20230101T000000
END:STANDARD
END:VTIMEZONE
BEGIN:VEVENT
DTSTART;VALUE=DATE:20240717
DTEND;VALUE=DATE:20240718
DTSTAMP:20260425T153000
CREATED:20240717T115608Z
LAST-MODIFIED:20240717T115608Z
UID:35732-1721174400-1721260799@www.goiasfomento.com
SUMMARY:Cargo Vago desde 02/07/2024.
DESCRIPTION:
URL:https://www.goiasfomento.com/agenda/cargo-vago-desde-02-07-2024-9/
LOCATION:Chefia de Gabinete – Agência de Fomento de Goiás
CATEGORIES:Chefia de Gabinete
END:VEVENT
BEGIN:VEVENT
DTSTART;TZID=America/Sao_Paulo:20240717T080000
DTEND;TZID=America/Sao_Paulo:20240717T083000
DTSTAMP:20260425T153000
CREATED:20240717T121739Z
LAST-MODIFIED:20240717T121739Z
UID:35738-1721203200-1721205000@www.goiasfomento.com
SUMMARY:Lucas Fernandes de Andrade – Diretor Presidente (Interino): Entrevista  por telefone no  programa  São Francisco News\, da Rádio São Francisco 97\,7 FM\, de Anápolis.
DESCRIPTION:
URL:https://www.goiasfomento.com/agenda/lucas-fernandes-de-andrade-diretor-presidente-interino-entrevista-por-telefone-no-programa-sao-francisco-news-da-radio-sao-francisco-977-fm-de-anapolis/
LOCATION:Gabinete da Presidência da GoiásFomento – Agência de Fomento de Goiás.
CATEGORIES:Presidência
END:VEVENT
BEGIN:VEVENT
DTSTART;TZID=America/Sao_Paulo:20240717T080000
DTEND;TZID=America/Sao_Paulo:20240717T083000
DTSTAMP:20260425T153000
CREATED:20240717T121820Z
LAST-MODIFIED:20240717T121820Z
UID:35740-1721203200-1721205000@www.goiasfomento.com
SUMMARY:Lucas Fernandes de Andrade: Entrevista  por telefone no  programa  São Francisco News\, da Rádio São Francisco 97\,7 FM\, de Anápolis.
DESCRIPTION:
URL:https://www.goiasfomento.com/agenda/lucas-fernandes-de-andrade-entrevista-por-telefone-no-programa-sao-francisco-news-da-radio-sao-francisco-977-fm-de-anapolis/
LOCATION:Gabinete da Diretoria de Operações da GoiásFomento – Agência de Fomento de Goiás.
CATEGORIES:Diretoria Administrativa e Financeira
END:VEVENT
BEGIN:VEVENT
DTSTART;TZID=America/Sao_Paulo:20240717T080000
DTEND;TZID=America/Sao_Paulo:20240717T120000
DTSTAMP:20260425T153000
CREATED:20240717T115446Z
LAST-MODIFIED:20240717T115446Z
UID:35728-1721203200-1721217600@www.goiasfomento.com
SUMMARY:Vinícius de Cecílio Luz: Despachos Internos.
DESCRIPTION:
URL:https://www.goiasfomento.com/agenda/vinicius-de-cecilio-luz-despachos-internos-183/
LOCATION:Gabinete da Diretoria de Operações da GoiásFomento – Agência de Fomento de Goiás.
CATEGORIES:Diretoria de Operações
END:VEVENT
BEGIN:VEVENT
DTSTART;TZID=America/Sao_Paulo:20240717T083000
DTEND;TZID=America/Sao_Paulo:20240717T090000
DTSTAMP:20260425T153000
CREATED:20240717T121905Z
LAST-MODIFIED:20240717T121905Z
UID:35742-1721205000-1721206800@www.goiasfomento.com
SUMMARY:Lucas Fernandes de Andrade – Diretor Presidente (Interino): Despachos Internos.
DESCRIPTION:
URL:https://www.goiasfomento.com/agenda/lucas-fernandes-de-andrade-diretor-presidente-interino-despachos-internos-24/
LOCATION:Gabinete da Presidência da GoiásFomento – Agência de Fomento de Goiás.
CATEGORIES:Presidência
END:VEVENT
BEGIN:VEVENT
DTSTART;TZID=America/Sao_Paulo:20240717T083000
DTEND;TZID=America/Sao_Paulo:20240717T090000
DTSTAMP:20260425T153000
CREATED:20240717T121939Z
LAST-MODIFIED:20240717T121939Z
UID:35744-1721205000-1721206800@www.goiasfomento.com
SUMMARY:Lucas Fernandes de Andrade: Despachos Internos.
DESCRIPTION:
URL:https://www.goiasfomento.com/agenda/lucas-fernandes-de-andrade-despachos-internos-14/
LOCATION:Diretoria Administrativa e Financeira da GoiásFomento – Agência de Fomento de Goiás.
CATEGORIES:Diretoria Administrativa e Financeira
END:VEVENT
BEGIN:VEVENT
DTSTART;TZID=America/Sao_Paulo:20240717T090000
DTEND;TZID=America/Sao_Paulo:20240717T100000
DTSTAMP:20260425T153000
CREATED:20240717T123012Z
LAST-MODIFIED:20240717T123012Z
UID:35746-1721206800-1721210400@www.goiasfomento.com
SUMMARY:Lucas Fernandes de Andrade – Diretor Presidente (Interino): Reunião da Ordinária do Conselho de Desenvolvimento do Estado de Goiás -  CDE/FCO.
DESCRIPTION:
URL:https://www.goiasfomento.com/agenda/lucas-fernandes-de-andrade-diretor-presidente-interino-reuniao-da-ordinaria-do-conselho-de-desenvolvimento-do-estado-de-goias-cde-fco/
LOCATION:Gabinete da Presidência da GoiásFomento – Agência de Fomento de Goiás.
CATEGORIES:Presidência
END:VEVENT
BEGIN:VEVENT
DTSTART;TZID=America/Sao_Paulo:20240717T090000
DTEND;TZID=America/Sao_Paulo:20240717T100000
DTSTAMP:20260425T153000
CREATED:20240717T123137Z
LAST-MODIFIED:20240717T123137Z
UID:35748-1721206800-1721210400@www.goiasfomento.com
SUMMARY:Lucas Fernandes de Andrade: Reunião da Ordinária do Conselho de Desenvolvimento do Estado de Goiás -  CDE/FCO.
DESCRIPTION:
URL:https://www.goiasfomento.com/agenda/lucas-fernandes-de-andrade-reuniao-da-ordinaria-do-conselho-de-desenvolvimento-do-estado-de-goias-cde-fco/
LOCATION:Diretoria Administrativa e Financeira da GoiásFomento – Agência de Fomento de Goiás.
CATEGORIES:Diretoria Administrativa e Financeira
END:VEVENT
BEGIN:VEVENT
DTSTART;TZID=America/Sao_Paulo:20240717T100000
DTEND;TZID=America/Sao_Paulo:20240717T120000
DTSTAMP:20260425T153000
CREATED:20240717T123253Z
LAST-MODIFIED:20240717T123253Z
UID:35750-1721210400-1721217600@www.goiasfomento.com
SUMMARY:Lucas Fernandes de Andrade – Diretor Presidente (Interino): Despachos Internos.
DESCRIPTION:
URL:https://www.goiasfomento.com/agenda/lucas-fernandes-de-andrade-diretor-presidente-interino-despachos-internos-25/
LOCATION:Gabinete da Presidência da GoiásFomento – Agência de Fomento de Goiás.
CATEGORIES:Presidência
END:VEVENT
BEGIN:VEVENT
DTSTART;TZID=America/Sao_Paulo:20240717T100000
DTEND;TZID=America/Sao_Paulo:20240717T120000
DTSTAMP:20260425T153000
CREATED:20240717T123324Z
LAST-MODIFIED:20240717T123324Z
UID:35752-1721210400-1721217600@www.goiasfomento.com
SUMMARY:Lucas Fernandes de Andrade: Despachos Internos.
DESCRIPTION:
URL:https://www.goiasfomento.com/agenda/lucas-fernandes-de-andrade-despachos-internos-15/
LOCATION:Diretoria Administrativa e Financeira da GoiásFomento – Agência de Fomento de Goiás.
CATEGORIES:Diretoria Administrativa e Financeira
END:VEVENT
BEGIN:VEVENT
DTSTART;TZID=America/Sao_Paulo:20240717T140000
DTEND;TZID=America/Sao_Paulo:20240717T180000
DTSTAMP:20260425T153000
CREATED:20240717T115522Z
LAST-MODIFIED:20240717T115522Z
UID:35730-1721224800-1721239200@www.goiasfomento.com
SUMMARY:Vinícius de Cecílio Luz: Despachos Internos.
DESCRIPTION:
URL:https://www.goiasfomento.com/agenda/vinicius-de-cecilio-luz-despachos-internos-184/
LOCATION:Gabinete da Diretoria de Operações da GoiásFomento – Agência de Fomento de Goiás.
CATEGORIES:Diretoria de Operações
END:VEVENT
BEGIN:VEVENT
DTSTART;TZID=America/Sao_Paulo:20240717T140000
DTEND;TZID=America/Sao_Paulo:20240717T180000
DTSTAMP:20260425T153000
CREATED:20240717T120704Z
LAST-MODIFIED:20240717T120704Z
UID:35734-1721224800-1721239200@www.goiasfomento.com
SUMMARY:Lucas Fernandes de Andrade – Diretor Presidente (Interino): Despachos Internos.
DESCRIPTION:
URL:https://www.goiasfomento.com/agenda/lucas-fernandes-de-andrade-diretor-presidente-interino-despachos-internos-23/
LOCATION:Presidência – Agência de Fomento de Goiás
CATEGORIES:Presidência
END:VEVENT
BEGIN:VEVENT
DTSTART;TZID=America/Sao_Paulo:20240717T140000
DTEND;TZID=America/Sao_Paulo:20240717T180000
DTSTAMP:20260425T153000
CREATED:20240717T120748Z
LAST-MODIFIED:20240717T120748Z
UID:35736-1721224800-1721239200@www.goiasfomento.com
SUMMARY:Lucas Fernandes de Andrade: Despachos Internos.
DESCRIPTION:
URL:https://www.goiasfomento.com/agenda/lucas-fernandes-de-andrade-despachos-internos-13/
LOCATION:Diretoria Administrativa e Financeira da GoiásFomento – Agência de Fomento de Goiás.
CATEGORIES:Diretoria Administrativa e Financeira
END:VEVENT
END:VCALENDAR