BEGIN:VCALENDAR
VERSION:2.0
PRODID:-//GoiásFomento - Agência de Fomento - ECPv6.15.20//NONSGML v1.0//EN
CALSCALE:GREGORIAN
METHOD:PUBLISH
X-ORIGINAL-URL:https://www.goiasfomento.com
X-WR-CALDESC:Eventos para GoiásFomento - Agência de Fomento
REFRESH-INTERVAL;VALUE=DURATION:PT1H
X-Robots-Tag:noindex
X-PUBLISHED-TTL:PT1H
BEGIN:VTIMEZONE
TZID:America/Sao_Paulo
BEGIN:STANDARD
TZOFFSETFROM:-0300
TZOFFSETTO:-0300
TZNAME:-03
DTSTART:20230101T000000
END:STANDARD
END:VTIMEZONE
BEGIN:VEVENT
DTSTART;VALUE=DATE:20240712
DTEND;VALUE=DATE:20240713
DTSTAMP:20260425T153051
CREATED:20240712T111553Z
LAST-MODIFIED:20240712T111553Z
UID:35626-1720742400-1720828799@www.goiasfomento.com
SUMMARY:Cargo Vago desde 02/07/2024.
DESCRIPTION:
URL:https://www.goiasfomento.com/agenda/cargo-vago-desde-02-07-2024-6/
LOCATION:Chefia de Gabinete – Agência de Fomento de Goiás
CATEGORIES:Chefia de Gabinete
END:VEVENT
BEGIN:VEVENT
DTSTART;TZID=America/Sao_Paulo:20240712T080000
DTEND;TZID=America/Sao_Paulo:20240712T100000
DTSTAMP:20260425T153051
CREATED:20240712T141826Z
LAST-MODIFIED:20240712T141826Z
UID:35628-1720771200-1720778400@www.goiasfomento.com
SUMMARY:Lucas Fernandes de Andrade: Despachos Internos.
DESCRIPTION:
URL:https://www.goiasfomento.com/agenda/lucas-fernandes-de-andrade-despachos-internos-5/
LOCATION:Diretoria Administrativa e Financeira da GoiásFomento – Agência de Fomento de Goiás.
CATEGORIES:Diretoria Administrativa e Financeira
END:VEVENT
BEGIN:VEVENT
DTSTART;TZID=America/Sao_Paulo:20240712T080000
DTEND;TZID=America/Sao_Paulo:20240712T100000
DTSTAMP:20260425T153051
CREATED:20240712T141913Z
LAST-MODIFIED:20240712T141913Z
UID:35630-1720771200-1720778400@www.goiasfomento.com
SUMMARY:Lucas Fernandes de Andrade – Diretor Presidente (Interino):  Despachos Internos.
DESCRIPTION:
URL:https://www.goiasfomento.com/agenda/lucas-fernandes-de-andrade-diretor-presidente-interino-despachos-internos-13/
LOCATION:Gabinete da Presidência da GoiásFomento – Agência de Fomento de Goiás.
CATEGORIES:Presidência
END:VEVENT
BEGIN:VEVENT
DTSTART;TZID=America/Sao_Paulo:20240712T080000
DTEND;TZID=America/Sao_Paulo:20240712T120000
DTSTAMP:20260425T153051
CREATED:20240712T111413Z
LAST-MODIFIED:20240712T111413Z
UID:35622-1720771200-1720785600@www.goiasfomento.com
SUMMARY:Vinícius de Cecílio Luz: Despachos Internos.
DESCRIPTION:
URL:https://www.goiasfomento.com/agenda/vinicius-de-cecilio-luz-despachos-internos-177/
LOCATION:Gabinete da Diretoria de Operações da GoiásFomento – Agência de Fomento de Goiás.
CATEGORIES:Diretoria de Operações
END:VEVENT
BEGIN:VEVENT
DTSTART;TZID=America/Sao_Paulo:20240712T100000
DTEND;TZID=America/Sao_Paulo:20240712T110000
DTSTAMP:20260425T153051
CREATED:20240712T142017Z
LAST-MODIFIED:20240712T142017Z
UID:35632-1720778400-1720782000@www.goiasfomento.com
SUMMARY:Lucas Fernandes de Andrade – Diretor Presidente (Interino): Reunião com Bruno Alvarenga Campos Martins – Gerente de Atendimento da Agência de Fomento de Goiás.
DESCRIPTION:
URL:https://www.goiasfomento.com/agenda/lucas-fernandes-de-andrade-diretor-presidente-interino-reuniao-com-bruno-alvarenga-campos-martins-gerente-de-atendimento-da-agencia-de-fomento-de-goias/
LOCATION:Gabinete da Presidência da GoiásFomento – Agência de Fomento de Goiás.
CATEGORIES:Presidência
END:VEVENT
BEGIN:VEVENT
DTSTART;TZID=America/Sao_Paulo:20240712T100000
DTEND;TZID=America/Sao_Paulo:20240712T110000
DTSTAMP:20260425T153051
CREATED:20240712T142111Z
LAST-MODIFIED:20240712T142111Z
UID:35634-1720778400-1720782000@www.goiasfomento.com
SUMMARY:Lucas Fernandes de Andrade: Reunião com Bruno Alvarenga Campos Martins – Gerente de Atendimento da Agência de Fomento de Goiás.
DESCRIPTION:
URL:https://www.goiasfomento.com/agenda/lucas-fernandes-de-andrade-reuniao-com-bruno-alvarenga-campos-martins-gerente-de-atendimento-da-agencia-de-fomento-de-goias/
LOCATION:Diretoria Administrativa e Financeira – Agência de Fomento de Goiás.
CATEGORIES:Diretoria Administrativa e Financeira
END:VEVENT
BEGIN:VEVENT
DTSTART;TZID=America/Sao_Paulo:20240712T110000
DTEND;TZID=America/Sao_Paulo:20240712T120000
DTSTAMP:20260425T153051
CREATED:20240712T142236Z
LAST-MODIFIED:20240712T142236Z
UID:35636-1720782000-1720785600@www.goiasfomento.com
SUMMARY:Lucas Fernandes de Andrade: Despachos Internos.
DESCRIPTION:
URL:https://www.goiasfomento.com/agenda/lucas-fernandes-de-andrade-despachos-internos-6/
LOCATION:Diretoria Administrativa e Financeira da GoiásFomento – Agência de Fomento de Goiás.
CATEGORIES:Diretoria Administrativa e Financeira
END:VEVENT
BEGIN:VEVENT
DTSTART;TZID=America/Sao_Paulo:20240712T110000
DTEND;TZID=America/Sao_Paulo:20240712T120000
DTSTAMP:20260425T153051
CREATED:20240712T142416Z
LAST-MODIFIED:20240712T142416Z
UID:35640-1720782000-1720785600@www.goiasfomento.com
SUMMARY:Lucas Fernandes de Andrade – Diretor Presidente (Interino): Despachos Internos.
DESCRIPTION:
URL:https://www.goiasfomento.com/agenda/lucas-fernandes-de-andrade-diretor-presidente-interino-despachos-internos-14/
LOCATION:Gabinete da Presidência da GoiásFomento – Agência de Fomento de Goiás.
CATEGORIES:Presidência
END:VEVENT
BEGIN:VEVENT
DTSTART;TZID=America/Sao_Paulo:20240712T140000
DTEND;TZID=America/Sao_Paulo:20240712T180000
DTSTAMP:20260425T153051
CREATED:20240712T111448Z
LAST-MODIFIED:20240712T111448Z
UID:35624-1720792800-1720807200@www.goiasfomento.com
SUMMARY:Vinícius de Cecílio Luz: Despachos Internos.
DESCRIPTION:
URL:https://www.goiasfomento.com/agenda/vinicius-de-cecilio-luz-despachos-internos-178/
LOCATION:Gabinete da Diretoria de Operações da GoiásFomento – Agência de Fomento de Goiás.
CATEGORIES:Diretoria de Operações
END:VEVENT
BEGIN:VEVENT
DTSTART;TZID=America/Sao_Paulo:20240712T140000
DTEND;TZID=America/Sao_Paulo:20240712T180000
DTSTAMP:20260425T153051
CREATED:20240712T142313Z
LAST-MODIFIED:20240712T142313Z
UID:35638-1720792800-1720807200@www.goiasfomento.com
SUMMARY:Lucas Fernandes de Andrade: Despachos Internos.
DESCRIPTION:
URL:https://www.goiasfomento.com/agenda/lucas-fernandes-de-andrade-despachos-internos-7/
LOCATION:Diretoria Administrativa e Financeira – Agência de Fomento de Goiás.
CATEGORIES:Diretoria Administrativa e Financeira
END:VEVENT
BEGIN:VEVENT
DTSTART;TZID=America/Sao_Paulo:20240712T140000
DTEND;TZID=America/Sao_Paulo:20240712T180000
DTSTAMP:20260425T153051
CREATED:20240712T142453Z
LAST-MODIFIED:20240712T142453Z
UID:35642-1720792800-1720807200@www.goiasfomento.com
SUMMARY:Lucas Fernandes de Andrade – Diretor Presidente (Interino): Despachos Internos.
DESCRIPTION:
URL:https://www.goiasfomento.com/agenda/lucas-fernandes-de-andrade-diretor-presidente-interino-despachos-internos-15/
LOCATION:Gabinete da Presidência da GoiásFomento – Agência de Fomento de Goiás.
CATEGORIES:Presidência
END:VEVENT
END:VCALENDAR